BEGIN:VCALENDAR
VERSION:2.0
PRODID:-//ChamberMaster//Event Calendar 2.0//EN
METHOD:PUBLISH
X-PUBLISHED-TTL:P3D
REFRESH-INTERVAL:P3D
CALSCALE:GREGORIAN
BEGIN:VEVENT
DTSTART:20150521T070000Z
DTEND:20150521T070000Z
X-MICROSOFT-CDO-ALLDAYEVENT:FALSE
SUMMARY:Street Printing Festival 2015
DESCRIPTION:Sunday\, June 21st\, 11am-5pm\, we clear the asphalt and get ready! For the second annual Street Printing Festival at Sebastopol Center for the Arts a three ton pavement roller will present an encore "per­formance" on the SCA parking lot. Come join the fun as printmakers have their large linocuts meticulously pressed on paper by the giant roller. In addition to having the prints for sale\, this festival will also feature booths  introducing  you to a variety of book and printing specialties\,  book arts\, and stamps. Children  can create their own print or participate in a collaborative piece that will be displayed the month of July at  Sebastopol Library. A day of fun including live music\, food and drinks. \nArtists interested in cre­ating a linocut to be printed in the parking lot or vendors interested in having a booth during the festival\, should contact Visual Arts Director Catherine Devriese at ( 707) 829-4797\, or catherined@sebarts.org.
X-ALT-DESC;FMTTYPE=text/html:Sunday\, June 21st\, 11am-5pm\, we clear the asphalt and get ready! For the second annual Street Printing Festival at Sebastopol Center for the Arts a three ton pavement roller will present an encore "per­formance" on the SCA parking lot. Come join the fun as printmakers have their large linocuts meticulously pressed on paper by the giant roller. In addition to having the prints for sale\, this festival will also feature booths  introducing  you to a variety of book and printing specialties\,  book arts\, and stamps. Children  can create their own print or participate in a collaborative piece that will be displayed the month of July at  Sebastopol Library. A day of fun including live music\, food and drinks. \nArtists interested in cre­ating a linocut to be printed in the parking lot or vendors interested in having a booth during the festival\, should contact Visual Arts Director Catherine Devriese at ( 707) 829-4797\, or catherined@sebarts.org.
LOCATION:Sebastopol Center for the Arts 282 S High Street Sebastopol 95472
UID:e.3189.5042451
SEQUENCE:3
DTSTAMP:20260420T023657Z
URL:https://business.sebastopol.org/events/details/street-printing-festival-2015-05-21-2015-5042451
END:VEVENT

END:VCALENDAR
