BEGIN:VCALENDAR
VERSION:2.0
PRODID:-//ChamberMaster//Event Calendar 2.0//EN
METHOD:PUBLISH
X-PUBLISHED-TTL:P3D
REFRESH-INTERVAL:P3D
CALSCALE:GREGORIAN
BEGIN:VEVENT
DTSTART:20120915T170000Z
DTEND:20120915T220000Z
X-MICROSOFT-CDO-ALLDAYEVENT:FALSE
SUMMARY:Sturgeon's Mill Restoration Project
DESCRIPTION:Sturgeon's Mill Restoration Project ~ Live Demonstrations Open to the Public!  Don't miss the public demonstrations of our live steam-powered sawmill this season at Sturgeon's Mill in Sonoma County! Come watch lumber being milled on one of the few remaining steam-powered saw mills in the Pacific North West. In operation once again\, after decades of sorrowful silence. A true marvel to behold - bring the family and enjoy a day at Sturgeon's Mill!
X-ALT-DESC;FMTTYPE=text/html:Sturgeon's Mill Restoration Project ~ Live Demonstrations Open to the Public!  Don't miss the public demonstrations of our live steam-powered sawmill this season at Sturgeon's Mill in Sonoma County! Come watch lumber being milled on one of the few remaining steam-powered saw mills in the Pacific North West. In operation once again\, after decades of sorrowful silence. A true marvel to behold - bring the family and enjoy a day at Sturgeon's Mill!
LOCATION:Sturgeon's Mill 2150 Green HIll Road Sebastopol
UID:e.3189.8781
SEQUENCE:3
DTSTAMP:20260422T083846Z
URL:https://business.sebastopol.org/events/details/sturgeon-s-mill-restoration-project-09-15-2012-8781
END:VEVENT

END:VCALENDAR
