BEGIN:VCALENDAR
VERSION:2.0
PRODID:-//ChamberMaster//Event Calendar 2.0//EN
METHOD:PUBLISH
X-PUBLISHED-TTL:P3D
REFRESH-INTERVAL:P3D
CALSCALE:GREGORIAN
BEGIN:VEVENT
DTSTART:20140802T170000Z
DTEND:20140802T233000Z
X-MICROSOFT-CDO-ALLDAYEVENT:FALSE
SUMMARY:Summer Party
DESCRIPTION:Summer is here\, so come enjoy a lovely day with us sipping summer wines on our patio. For this summer celebration day\, we?ll be featuring a flight of our latest releases\, including bright whites\, chardonnay\, pinot noir\, and the new release of our 2012 Morelli Lane Vineyard Zinfandel! So\, it only seems fitting to break out the barbeque for some delicious pairings. The flight is complimentary with your wine purchase\, otherwise $15 per person.
X-ALT-DESC;FMTTYPE=text/html:Summer is here\, so come enjoy a lovely day with us sipping summer wines on our patio. For this summer celebration day\, we?ll be featuring a flight of our latest releases\, including bright whites\, chardonnay\, pinot noir\, and the new release of our 2012 Morelli Lane Vineyard Zinfandel! So\, it only seems fitting to break out the barbeque for some delicious pairings. The flight is complimentary with your wine purchase\, otherwise $15 per person.
LOCATION:Dutton-Goldfield Winery 3100 Gravenstein Hwy North Sebastopol\, CA. 95472
UID:e.3189.5041392
SEQUENCE:3
DTSTAMP:20260419T123155Z
URL:https://business.sebastopol.org/events/details/summer-party-08-02-2014-5041392
END:VEVENT

END:VCALENDAR
