BEGIN:VCALENDAR
VERSION:2.0
PRODID:-//ChamberMaster//Event Calendar 2.0//EN
METHOD:PUBLISH
X-PUBLISHED-TTL:P3D
REFRESH-INTERVAL:P3D
CALSCALE:GREGORIAN
BEGIN:VEVENT
DTSTART:20150502T160000Z
DTEND:20150504T000000Z
X-MICROSOFT-CDO-ALLDAYEVENT:FALSE
SUMMARY:Summer Plant Sale & Tour - Occidental Arts & Ecology Center
DESCRIPTION:The Occidental Arts and Ecology Center will hold its annual Summer Plant Sale fundraiser on Saturday\, May 2 and Sunday\, May 3. Plant Sale hours are 9am - 5pm. Admission is free.   We'll be selling hundreds of open-pollinated\, heirloom\, and rare varieties - an even more spectacular selection than ever before! All are California Certified Organic - many started from our own seed collection - and have been trialed\, tasted\, and savored for years in our demonstration gardens and kitchen.   This plant sale focuses on the warm season summer crops such as tomatoes\, basil\, summer and winter squash\, pumpkins\, hot and sweet peppers\, eggplants\, beans\, melons\, cucumbers and gourds. We will also feature a wide array of perennial food crops and permaculture plants\, culinary and medicinal herbs as well as traditional food crops of the Andes\, such as yacon\, kiwicha\, quinoa\, mashua\, oca\, pepino\, and Cape gooseberry. See www.oaec.org  for a detailed list.   The OAEC garden staff will be on hand to tell you about our diverse selections.   A one-hour tour will be offered at 1 pm on Sunday\, May 3.   Plant sale will be held RAIN OR SHINE!
X-ALT-DESC;FMTTYPE=text/html:The Occidental Arts and Ecology Center will hold its annual Summer Plant Sale fundraiser on Saturday\, May 2 and Sunday\, May 3. Plant Sale hours are 9am - 5pm. Admission is free.   We'll be selling hundreds of open-pollinated\, heirloom\, and rare varieties - an even more spectacular selection than ever before! All are California Certified Organic - many started from our own seed collection - and have been trialed\, tasted\, and savored for years in our demonstration gardens and kitchen.   This plant sale focuses on the warm season summer crops such as tomatoes\, basil\, summer and winter squash\, pumpkins\, hot and sweet peppers\, eggplants\, beans\, melons\, cucumbers and gourds. We will also feature a wide array of perennial food crops and permaculture plants\, culinary and medicinal herbs as well as traditional food crops of the Andes\, such as yacon\, kiwicha\, quinoa\, mashua\, oca\, pepino\, and Cape gooseberry. See www.oaec.org <http://www.oaec.org> for a detailed list.   The OAEC garden staff will be on hand to tell you about our diverse selections.   A one-hour tour will be offered at 1 pm on Sunday\, May 3.   Plant sale will be held RAIN OR SHINE!
LOCATION:Occidental Arts & ecology Center
UID:e.3189.32453
SEQUENCE:3
DTSTAMP:20260420T023909Z
URL:https://business.sebastopol.org/events/details/summer-plant-sale-tour-occidental-arts-ecology-center-05-02-2015-32453
END:VEVENT

END:VCALENDAR
