BEGIN:VCALENDAR
VERSION:2.0
PRODID:-//ChamberMaster//Event Calendar 2.0//EN
METHOD:PUBLISH
X-PUBLISHED-TTL:P3D
REFRESH-INTERVAL:P3D
CALSCALE:GREGORIAN
BEGIN:VEVENT
DTSTART:20150430T170000Z
DTEND:20150503T230000Z
X-MICROSOFT-CDO-ALLDAYEVENT:FALSE
SUMMARY:Sustainable Enterprise Conference
DESCRIPTION:Explore how inovation and sustainability are driving our economy and influencing policy.  Over 40 Speakers. Clean Energy\, climate mitigation & adaptation\, transportation\, water and the future. for more information and to register check out our website www.sebastopol.org
X-ALT-DESC;FMTTYPE=text/html:Explore how inovation and sustainability are driving our economy and influencing policy.  Over 40 Speakers. Clean Energy\, climate mitigation & adaptation\, transportation\, water and the future. for more information and to register check out our website www.sebastopol.org
LOCATION:Sonoma Mountain Village 1100 Valley House Drive Rohnert Park\, CA 94928
UID:e.3189.32650
SEQUENCE:3
DTSTAMP:20260420T022438Z
URL:https://business.sebastopol.org/events/details/sustainable-enterprise-conference-04-30-2015-32650
END:VEVENT

END:VCALENDAR
