BEGIN:VCALENDAR
VERSION:2.0
PRODID:-//ChamberMaster//Event Calendar 2.0//EN
METHOD:PUBLISH
X-PUBLISHED-TTL:P3D
REFRESH-INTERVAL:P3D
CALSCALE:GREGORIAN
BEGIN:VEVENT
DTSTART:20130426T140000Z
DTEND:20130427T000000Z
X-MICROSOFT-CDO-ALLDAYEVENT:FALSE
SUMMARY:Sustainable Enterprise Conference 8th Annual
DESCRIPTION:The Sustainable Enterprise Conference program provides organizations and individuals with the latest information on how innovation and sustainability will drive the economy while preserving the resources needed for a prosperous future. \n\n7AM - Breakfast\nLocal Breads & Pastry\nNOON - Delicious and Healthy Lunch\nfeaturing Local and Organic Ingredients\nOrganic Teas \n5PM - Wine Reception to Follow
X-ALT-DESC;FMTTYPE=text/html:The Sustainable Enterprise Conference program provides organizations and individuals with the latest information on how innovation and sustainability will drive the economy while preserving the resources needed for a prosperous future. \n\n7AM - Breakfast\nLocal Breads & Pastry\nNOON - Delicious and Healthy Lunch\nfeaturing Local and Organic Ingredients\nOrganic Teas \n5PM - Wine Reception to Follow
LOCATION:Sonoma Mountain Village Rohner Park
UID:e.3189.5040470
SEQUENCE:3
DTSTAMP:20260421T221139Z
URL:https://business.sebastopol.org/events/details/sustainable-enterprise-conference-8th-annual-04-26-2013-5040470
END:VEVENT

END:VCALENDAR
