BEGIN:VCALENDAR
VERSION:2.0
PRODID:-//ChamberMaster//Event Calendar 2.0//EN
METHOD:PUBLISH
X-PUBLISHED-TTL:P3D
REFRESH-INTERVAL:P3D
CALSCALE:GREGORIAN
BEGIN:VEVENT
DTSTART:20150419T030000Z
DTEND:20150419T053000Z
X-MICROSOFT-CDO-ALLDAYEVENT:FALSE
SUMMARY:T Sisters: Sassy Sister Folk!
DESCRIPTION:Oakland-based  siblings Erika\, Rachel and Chloe Tietjen are fast rising singer/songwriter /sibling stars on the Strawberry\, Hardly Strictly Bluegrass & Kate Wolf Festival circuits. Captivating audiences with close harmonies\, inventive arrangements \, and plenty of  sister sass\, they evoke the classic girl groups from the Andrews Sisters to Dixie Chicks. Enjoy their lively originals and captivating covers of folk\, Americana\, gospel\, R & B\, soul and bluegrass. $20/15. Fine refreshments for sale.  Wheelchair accessible
X-ALT-DESC;FMTTYPE=text/html:Oakland-based  siblings Erika\, Rachel and Chloe Tietjen are fast rising singer/songwriter /sibling stars on the Strawberry\, Hardly Strictly Bluegrass & Kate Wolf Festival circuits. Captivating audiences with close harmonies\, inventive arrangements \, and plenty of  sister sass\, they evoke the classic girl groups from the Andrews Sisters to Dixie Chicks. Enjoy their lively originals and captivating covers of folk\, Americana\, gospel\, R & B\, soul and bluegrass. $20/15. Fine refreshments for sale.  Wheelchair accessible
LOCATION:Occidental Center for the Arts
UID:e.3189.32296
SEQUENCE:3
DTSTAMP:20260420T055450Z
URL:https://business.sebastopol.org/events/details/t-sisters-sassy-sister-folk-04-18-2015-32296
END:VEVENT

END:VCALENDAR
