BEGIN:VCALENDAR
VERSION:2.0
PRODID:-//ChamberMaster//Event Calendar 2.0//EN
METHOD:PUBLISH
X-PUBLISHED-TTL:P3D
REFRESH-INTERVAL:P3D
CALSCALE:GREGORIAN
BEGIN:VEVENT
DTSTART:20160109T230000Z
DTEND:20160110T003000Z
X-MICROSOFT-CDO-ALLDAYEVENT:FALSE
SUMMARY:TALK Waterfowl of the Laguna de Santa Rosa & Pacific Flyway!
DESCRIPTION:PRESENTATION with Dave BarryDucks\, geese\, wonderful waterfowl! We will learn basic identification and characteristics of waterfowl found in Sonoma County and along the Laguna de Santa Rosa at different times of year\, and learn about the great Pacific Flyway\, of which the Laguna is an important stopover for migrating waterfowl.  $10 at the door. No RSVP necessary.  (Join us for our free monthly open house with a special Duck Days theme prior to this presentation from 10am-3pm Also join us Sunday\, January 10\, 7:30-11am for a waterfowl walk with Dave Barry along the Laguna. $30. Pre-registration required for the walk: http://www.lagunafoundation.org/laguna_walks_classes.shtml  Dave Barry is a certified California Naturalist\, a certification program created by UC Berkeley and UC Davis. Dave brings a breath of experience and knowledge of birding and nature to his volunteer work mentoring young birders\, leading bird tours and nature hikes\, and giving natural history talks. Dave is a Santa Rosa native and has done programs with LandPaths\, Sonoma Land Trust\, Sonoma County Agricultural Preservation and Open Space District\, the Wildlife Conservancy\, and is a lead naturalist with West County Hawk Watch.)
X-ALT-DESC;FMTTYPE=text/html:<!--  Visual Designer HTML --><p><span style="text-decoration:underline"><strong><span style="font-weight: bold\;"><span style="font-weight: bold\;">PRESENTATION&nbsp\;with Dave Barry</span></span></strong></span></p><p>Ducks\, geese\, wonderful waterfowl! We will learn basic identification and characteristics of waterfowl found in Sonoma County and along the Laguna de Santa Rosa at different times of year\, and learn about the great Pacific Flyway\, of which the Laguna is an important stopover for migrating waterfowl. </p><p>&nbsp\;</p><p><strong><span style="font-weight: bold\;"><span style="font-weight: bold\;"><span style="font-weight: bold\;"><span style="font-weight: bold\;"><span style="font-weight: bold\;"><span style="font-weight: bold\;"><span style="font-weight: bold\;"><span style="font-weight: bold\;"><span style="font-weight: bold\;"><span style="font-weight: bold\;">$10 at the door. No RSVP necessary.</span></span></span></span></span></span></span></span></span></span></strong> </p><p>&nbsp\;</p><p>(Join us for our free monthly open house with a special Duck Days theme prior to this presentation from 10am-3pm Also join us Sunday\, January 10\, 7:30-11am for a waterfowl walk with Dave Barry along the Laguna. $30. Pre-registration required for the walk:&nbsp\;<a href="http://www.lagunafoundation.org/laguna_walks_classes.shtml">http://www.lagunafoundation.org/laguna_walks_classes.shtml</a></p><p> </p><p>&nbsp\;</p><p>Dave Barry is a certified California Naturalist\, a certification program created by UC Berkeley and UC Davis. Dave brings a breath of experience and knowledge of birding and nature to his volunteer work mentoring young birders\, leading bird tours and nature hikes\, and giving natural history talks. Dave is a Santa Rosa native and has done programs with LandPaths\, Sonoma Land Trust\, Sonoma County Agricultural Preservation and Open Space District\, the Wildlife Conservancy\, and is a lead naturalist with West County Hawk Watch.)</p>
LOCATION:Heron Hall\, Laguna Environmental Center900 Sanford RoadSanta Rosa\, CA 94928
UID:e.3189.5042951
SEQUENCE:3
DTSTAMP:20260419T125616Z
URL:https://business.sebastopol.org/events/details/talk-waterfowl-of-the-laguna-de-santa-rosa-pacific-flyway-01-09-2016-5042951
END:VEVENT

END:VCALENDAR
