BEGIN:VCALENDAR
VERSION:2.0
PRODID:-//ChamberMaster//Event Calendar 2.0//EN
METHOD:PUBLISH
X-PUBLISHED-TTL:P3D
REFRESH-INTERVAL:P3D
CALSCALE:GREGORIAN
BEGIN:VEVENT
DTSTART:20150517T200000Z
DTEND:20150518T000000Z
X-MICROSOFT-CDO-ALLDAYEVENT:FALSE
SUMMARY:Taste of West County
DESCRIPTION:Come savor West Sonoma County's finest food and wine\, while taking in sweeping vineyard views and live music! Taste of West County is one of Sebastopol's newest and finest annual events\, in its second year. A silent auction features local getaways\, restaurants\, wineries and more! Proceeds benefit education programs at the public Sebastopol Charter School.
X-ALT-DESC;FMTTYPE=text/html:Come savor West Sonoma County's finest food and wine\, while taking in sweeping vineyard views and live music! Taste of West County is one of Sebastopol's newest and finest annual events\, in its second year. A silent auction features local getaways\, restaurants\, wineries and more! Proceeds benefit education programs at the public Sebastopol Charter School.
LOCATION:Vine Hill House 3601 Vine Hill Road\, Sebastopol\, CA
UID:e.3189.5042257
SEQUENCE:3
DTSTAMP:20260420T023344Z
URL:https://business.sebastopol.org/events/details/taste-of-west-county-05-17-2015-5042257
END:VEVENT

END:VCALENDAR
