BEGIN:VCALENDAR
VERSION:2.0
PRODID:-//ChamberMaster//Event Calendar 2.0//EN
METHOD:PUBLISH
X-PUBLISHED-TTL:P3D
REFRESH-INTERVAL:P3D
CALSCALE:GREGORIAN
BEGIN:VEVENT
DTSTART:20150502T230000Z
DTEND:20150503T030300Z
X-MICROSOFT-CDO-ALLDAYEVENT:FALSE
SUMMARY:Taste of West County/Guys Can Cook to
DESCRIPTION:Food and Wine Tasting and Competition. \nThis special evening joins amateur chefs\, professional chefs\, and wineries for an abundant food and wine experience.  The amateur chefs compete for the grand prize of $1000 prize and are judged by a panel of culinary experts. You can also vote for your favorite chef in the Peoples Choice award. Guests are invited to enjoy scrumptious small plates and taste Sonoma County wines while enjoying the music and excitement of voting for their favorite amateur dish.
X-ALT-DESC;FMTTYPE=text/html:Food and Wine Tasting and Competition. \nThis special evening joins amateur chefs\, professional chefs\, and wineries for an abundant food and wine experience.  The amateur chefs compete for the grand prize of $1000 prize and are judged by a panel of culinary experts. You can also vote for your favorite chef in the Peoples Choice award. Guests are invited to enjoy scrumptious small plates and taste Sonoma County wines while enjoying the music and excitement of voting for their favorite amateur dish.
LOCATION:Sebastopol Community Cultural Center 390 Morris Street Sebastopol\, CA
UID:e.3189.5042214
SEQUENCE:3
DTSTAMP:20260420T041247Z
URL:https://business.sebastopol.org/events/details/taste-of-west-county-guys-can-cook-to-05-02-2015-5042214
END:VEVENT

END:VCALENDAR
