BEGIN:VCALENDAR
VERSION:2.0
PRODID:-//ChamberMaster//Event Calendar 2.0//EN
METHOD:PUBLISH
X-PUBLISHED-TTL:P3D
REFRESH-INTERVAL:P3D
CALSCALE:GREGORIAN
BEGIN:VEVENT
DTSTART:20130216T190000Z
DTEND:20130217T000000Z
X-MICROSOFT-CDO-ALLDAYEVENT:FALSE
SUMMARY:Taste Route 116 Hosts Second Annual “Sweet 116”
DESCRIPTION:The collection of wine tasting rooms that formed “Taste Route 116” will host Sweet 116 for a second year from 11am to 4pm on Saturday\, February 16\, 2013. Last year’s event was a complete sell out and guests were thrilled with the one of a kind take home souvenir that came with each ticket. Guests will get to choose their logo glasses hand painted by local artists. Each one is unique and a very valuable keepsake. Many of the artists will be at the wineries representing their art. The Sweet 116 event invites guests to enjoy decadent treats and delicious wines at seven wineries along Highway 116 near Sebastopol.   Tickets are $30 Per Person\, $25 for Wine Club Members and $10 for Designated Drivers (glass not included for DD’s) and can be purchased at participating wineries - Balletto Vineyards & Winery\, Dutton Estate Winery\, Graton Ridge Cellars\, Hook & Ladder (Sebastopol location)\, Martin Ray Winery\, Russian River Vineyards\, and Taft Street Winery.
X-ALT-DESC;FMTTYPE=text/html:The collection of wine tasting rooms that formed “Taste Route 116” will host Sweet 116 for a second year from 11am to 4pm on Saturday\, February 16\, 2013. Last year’s event was a complete sell out and guests were thrilled with the one of a kind take home souvenir that came with each ticket. Guests will get to choose their logo glasses hand painted by local artists. Each one is unique and a very valuable keepsake. Many of the artists will be at the wineries representing their art. The Sweet 116 event invites guests to enjoy decadent treats and delicious wines at seven wineries along Highway 116 near Sebastopol.   Tickets are $30 Per Person\, $25 for Wine Club Members and $10 for Designated Drivers (glass not included for DD’s) and can be purchased at participating wineries - Balletto Vineyards & Winery\, Dutton Estate Winery\, Graton Ridge Cellars\, Hook & Ladder (Sebastopol location)\, Martin Ray Winery\, Russian River Vineyards\, and Taft Street Winery.
LOCATION:Balletto Vineyards & Winery\, Dutton Estate Winery\, Graton Ridge Cellars\, Hook & Ladder (Sebastopol location)\, Martin Ray Winery\, Russian River Vineyards\, and Taft Street Winery
UID:e.3189.13509
SEQUENCE:3
DTSTAMP:20260422T010400Z
URL:https://business.sebastopol.org/events/details/taste-route-116-hosts-second-annual-sweet-116-02-16-2013-13509
END:VEVENT

END:VCALENDAR
