BEGIN:VCALENDAR
VERSION:2.0
PRODID:-//ChamberMaster//Event Calendar 2.0//EN
METHOD:PUBLISH
X-PUBLISHED-TTL:P3D
REFRESH-INTERVAL:P3D
CALSCALE:GREGORIAN
BEGIN:VEVENT
DTSTART:20150724T020000Z
DTEND:20150724T060000Z
X-MICROSOFT-CDO-ALLDAYEVENT:FALSE
SUMMARY:The 104th Anniversary Monte Rio Community Variety Show!
DESCRIPTION:The Annual Monte Rio Variety Show marks its 104th anniversary in 2015.\nJoin us for a special evening of music\, comedy and theater to celebrate with Monte Rio and the Russian River communities. All proceeds raise funds for local charities. Past shows have featured such stars as Art Linkletter\, Merv Griffin\, Bing Crosby and Phil Harris and current shows have starred Clint Black\, Zac Brown\, Tom Scott\, Steve Miller\, Jerry Lopez\, Big Al Anderson and Shelly Berg. Together they carry on the show tradition every July on the banks of the Russian River. With a uniquely wide range of acts\, from Jazz to Classical\, from Country to Rock\, the Show has been a Russian River tradition for 104 years.\n\nMusic\, Comedy\, Fun and Friends!\nThe 104th “Monte Rio Variety Show” begins at 7 p.m. Thursday\, July 23\, at the Monte Rio Amphitheater.\nJoin your neighbors and friends for the barbeque\, hosted by the Monte Rio Fire Services Foundation beginning at 4:30pm. All proceeds from the food vendors go directly back into the local Community. Gates open at 7:00am on Thursday\, July 23rd\, for chair set up.\n\nGet Your Tickets!\nCall 707-486-1739\nEmail tickets@monterioshow.org\n\nBrown Paper Tickets www.brownpapertickets.com\n\nShow tickets are $25 per Adult and $10 for Youth (Aged 13-17) when accompanied by a paying Adult. Children 12 and under are free with a paying Adult. To reserve and pay for tickets by mail please fill out this attached form. Your tickets will be available at Will Call at 4:30pm on the day of the show. \n\nThe barbeque begins at 4:30pm next to the Monte Rio Amphitheater. Chicken or Ribs dinner will be served and veggie Burgers will also be available as a meat alternative. Hot dogs\, baked goods\, beer\, and wine\, will also be offered for sale near show time. \n\nAll proceeds from the show and barbeque go to benefit St. Catherine's Church\, the Monte Rio School Foundation\, and the Monte Rio Fire Services Foundation.
X-ALT-DESC;FMTTYPE=text/html:The Annual Monte Rio Variety Show marks its 104th anniversary in 2015.\nJoin us for a special evening of music\, comedy and theater to celebrate with Monte Rio and the Russian River communities. All proceeds raise funds for local charities. Past shows have featured such stars as Art Linkletter\, Merv Griffin\, Bing Crosby and Phil Harris and current shows have starred Clint Black\, Zac Brown\, Tom Scott\, Steve Miller\, Jerry Lopez\, Big Al Anderson and Shelly Berg. Together they carry on the show tradition every July on the banks of the Russian River. With a uniquely wide range of acts\, from Jazz to Classical\, from Country to Rock\, the Show has been a Russian River tradition for 104 years.\n\nMusic\, Comedy\, Fun and Friends!\nThe 104th “Monte Rio Variety Show” begins at 7 p.m. Thursday\, July 23\, at the Monte Rio Amphitheater.\nJoin your neighbors and friends for the barbeque\, hosted by the Monte Rio Fire Services Foundation beginning at 4:30pm. All proceeds from the food vendors go directly back into the local Community. Gates open at 7:00am on Thursday\, July 23rd\, for chair set up.\n\nGet Your Tickets!\nCall 707-486-1739\nEmail tickets@monterioshow.org\n\nBrown Paper Tickets www.brownpapertickets.com\n\nShow tickets are $25 per Adult and $10 for Youth (Aged 13-17) when accompanied by a paying Adult. Children 12 and under are free with a paying Adult. To reserve and pay for tickets by mail please fill out this attached form. Your tickets will be available at Will Call at 4:30pm on the day of the show. \n\nThe barbeque begins at 4:30pm next to the Monte Rio Amphitheater. Chicken or Ribs dinner will be served and veggie Burgers will also be available as a meat alternative. Hot dogs\, baked goods\, beer\, and wine\, will also be offered for sale near show time. \n\nAll proceeds from the show and barbeque go to benefit St. Catherine's Church\, the Monte Rio School Foundation\, and the Monte Rio Fire Services Foundation.
LOCATION:Monte Rio Amphitheater
UID:e.3189.5042573
SEQUENCE:3
DTSTAMP:20260419T231823Z
URL:https://business.sebastopol.org/events/details/the-104th-anniversary-monte-rio-community-variety-show-07-23-2015-5042573
END:VEVENT

END:VCALENDAR
