BEGIN:VCALENDAR
VERSION:2.0
PRODID:-//ChamberMaster//Event Calendar 2.0//EN
METHOD:PUBLISH
X-PUBLISHED-TTL:P3D
REFRESH-INTERVAL:P3D
CALSCALE:GREGORIAN
BEGIN:VEVENT
DTSTART:20150404T190000Z
DTEND:20150405T020000Z
X-MICROSOFT-CDO-ALLDAYEVENT:FALSE
SUMMARY:The 3rd Annual Sebastopol Ukulele Festival
DESCRIPTION:Mr. Music Foundation & The Sebastopol Community Cultural Center present the 3rd Annual Sebastopol Ukulele Festival.  Beginning at noon a community super jam\, open mics and workshops all day.  Performers include Rhan Wilson\, Rick Zeek\, The Bohemian Ukes and many more!
X-ALT-DESC;FMTTYPE=text/html:Mr. Music Foundation & The Sebastopol Community Cultural Center present the 3rd Annual Sebastopol Ukulele Festival.  Beginning at noon a community super jam\, open mics and workshops all day.  Performers include Rhan Wilson\, Rick Zeek\, The Bohemian Ukes and many more!
LOCATION:Sebastopol Community Cultural Center 390 Morris Street Sebastopol\, CA. 95472
UID:e.3189.5042242
SEQUENCE:3
DTSTAMP:20260420T040300Z
URL:https://business.sebastopol.org/events/details/the-3rd-annual-sebastopol-ukulele-festival-04-04-2015-5042242
END:VEVENT

END:VCALENDAR
