BEGIN:VCALENDAR
VERSION:2.0
PRODID:-//ChamberMaster//Event Calendar 2.0//EN
METHOD:PUBLISH
X-PUBLISHED-TTL:P3D
REFRESH-INTERVAL:P3D
CALSCALE:GREGORIAN
BEGIN:VEVENT
DTSTART:20150601T003400Z
DTEND:20150601T020000Z
X-MICROSOFT-CDO-ALLDAYEVENT:FALSE
SUMMARY:The Amaryllis Trio
DESCRIPTION:Occidental Center for the Arts invites you to enjoy the beautiful classical sounds of The Amaryllis Trio . Consummate local musicians Sonia Morse Tubridy (piano)\, Lisa Doyle (violin)\, and Wendy Reynolds (cello) play music selections by Piazzola \, Mozart\, Dvorak and more. $10. Fine refreshments for sale.  Wheelchair accessible
X-ALT-DESC;FMTTYPE=text/html:Occidental Center for the Arts invites you to enjoy the beautiful classical sounds of The Amaryllis Trio . Consummate local musicians Sonia Morse Tubridy (piano)\, Lisa Doyle (violin)\, and Wendy Reynolds (cello) play music selections by Piazzola \, Mozart\, Dvorak and more. $10. Fine refreshments for sale.  Wheelchair accessible
LOCATION:Occidental Center for the Arts Graton Rd. & Bohemian Hwy.
UID:e.3189.32698
SEQUENCE:3
DTSTAMP:20260420T023243Z
URL:https://business.sebastopol.org/events/details/the-amaryllis-trio-05-31-2015-32698
END:VEVENT

END:VCALENDAR
