BEGIN:VCALENDAR
VERSION:2.0
PRODID:-//ChamberMaster//Event Calendar 2.0//EN
METHOD:PUBLISH
X-PUBLISHED-TTL:P3D
REFRESH-INTERVAL:P3D
CALSCALE:GREGORIAN
BEGIN:VEVENT
DTSTART:20140807T230000Z
DTEND:20140808T030000Z
X-MICROSOFT-CDO-ALLDAYEVENT:FALSE
SUMMARY:The Barlow Street Fair
DESCRIPTION:Enjoy Eats\, Treats and Music of LEVI LLOYD & THE 501 BAND  AUTHENTIC BLUES
X-ALT-DESC;FMTTYPE=text/html:Enjoy Eats\, Treats and Music of LEVI LLOYD & THE 501 BAND  AUTHENTIC BLUES
LOCATION:The Barlow McKinley and Morris Street
UID:e.3189.24566
SEQUENCE:3
DTSTAMP:20260419T123427Z
URL:https://business.sebastopol.org/events/details/the-barlow-street-fair-08-07-2014-24566
END:VEVENT

END:VCALENDAR
