BEGIN:VCALENDAR
VERSION:2.0
PRODID:-//ChamberMaster//Event Calendar 2.0//EN
METHOD:PUBLISH
X-PUBLISHED-TTL:P3D
REFRESH-INTERVAL:P3D
CALSCALE:GREGORIAN
BEGIN:VEVENT
DTSTART:20140814T230000Z
DTEND:20140815T030000Z
X-MICROSOFT-CDO-ALLDAYEVENT:FALSE
SUMMARY:The Barlow Street Fair
DESCRIPTION:Enjoy Eats\, Treats and Music of: STAX CITY  BIG OL’ HORN BAND
X-ALT-DESC;FMTTYPE=text/html:Enjoy Eats\, Treats and Music of: STAX CITY  BIG OL’ HORN BAND
LOCATION:The Barlow McKinley & Morris Street
UID:e.3189.24569
SEQUENCE:3
DTSTAMP:20260419T123334Z
URL:https://business.sebastopol.org/events/details/the-barlow-street-fair-08-14-2014-24569
END:VEVENT

END:VCALENDAR
