BEGIN:VCALENDAR
VERSION:2.0
PRODID:-//ChamberMaster//Event Calendar 2.0//EN
METHOD:PUBLISH
X-PUBLISHED-TTL:P3D
REFRESH-INTERVAL:P3D
CALSCALE:GREGORIAN
BEGIN:VEVENT
DTSTART:20140821T230000Z
DTEND:20140822T030000Z
X-MICROSOFT-CDO-ALLDAYEVENT:FALSE
SUMMARY:The Barlow Street Fair
DESCRIPTION:Enjoy Eats\, Treats and Music of: BLACK SHEEP BRASS BAND  NEW ORLEANS STREET BAND
X-ALT-DESC;FMTTYPE=text/html:Enjoy Eats\, Treats and Music of: BLACK SHEEP BRASS BAND  NEW ORLEANS STREET BAND
LOCATION:The Barlow McKinley & Morris Street
UID:e.3189.24572
SEQUENCE:3
DTSTAMP:20260419T123428Z
URL:https://business.sebastopol.org/events/details/the-barlow-street-fair-08-21-2014-24572
END:VEVENT

END:VCALENDAR
