BEGIN:VCALENDAR
VERSION:2.0
PRODID:-//ChamberMaster//Event Calendar 2.0//EN
METHOD:PUBLISH
X-PUBLISHED-TTL:P3D
REFRESH-INTERVAL:P3D
CALSCALE:GREGORIAN
BEGIN:VEVENT
DTSTART:20140828T230000Z
DTEND:20140828T230000Z
X-MICROSOFT-CDO-ALLDAYEVENT:FALSE
SUMMARY:The Barlow Street Fair
DESCRIPTION:Enjoy Eats\, Treats & the Music of: THE FABULOUS LUV RUSTLERS  ROCK WITH RHYTHM & BLUES
X-ALT-DESC;FMTTYPE=text/html:Enjoy Eats\, Treats & the Music of: THE FABULOUS LUV RUSTLERS  ROCK WITH RHYTHM & BLUES
LOCATION:The Barlow McKInley & Morris Street
UID:e.3189.24575
SEQUENCE:3
DTSTAMP:20260419T123334Z
URL:https://business.sebastopol.org/events/details/the-barlow-street-fair-08-28-2014-24575
END:VEVENT

END:VCALENDAR
