BEGIN:VCALENDAR
VERSION:2.0
PRODID:-//ChamberMaster//Event Calendar 2.0//EN
METHOD:PUBLISH
X-PUBLISHED-TTL:P3D
REFRESH-INTERVAL:P3D
CALSCALE:GREGORIAN
BEGIN:VEVENT
DTSTART:20150524T170000Z
DTEND:20150524T220000Z
X-MICROSOFT-CDO-ALLDAYEVENT:FALSE
SUMMARY:''The Birds'' Schoolhouse Tours
DESCRIPTION:Get a Peek into that infamous School House from Hitchcock’s “The Birds.” Tours on Memorial Day and Labor Day weekends. A wonderful outing for the family or for out-of-town guests. Hear the spooky stories of hauntings and the amazing history of this iconic schoolhouse\, all from the woman who grew up in this most famous of homes. Sunday\, May 24 and Sunday\, September 6.  Only $25 per person. Space is limited.
X-ALT-DESC;FMTTYPE=text/html:Get a Peek into that infamous School House from Hitchcock’s “The Birds.” Tours on Memorial Day and Labor Day weekends. A wonderful outing for the family or for out-of-town guests. Hear the spooky stories of hauntings and the amazing history of this iconic schoolhouse\, all from the woman who grew up in this most famous of homes. Sunday\, May 24 and Sunday\, September 6.  Only $25 per person. Space is limited.
LOCATION:The Schoolhouse\, 17110 Bodega Ln\, Bodega\, CA\, 94923
UID:e.3189.5042289
SEQUENCE:3
DTSTAMP:20260420T023355Z
URL:https://business.sebastopol.org/events/details/the-birds-schoolhouse-tours-05-24-2015-5042289
END:VEVENT

END:VCALENDAR
