BEGIN:VCALENDAR
VERSION:2.0
PRODID:-//ChamberMaster//Event Calendar 2.0//EN
METHOD:PUBLISH
X-PUBLISHED-TTL:P3D
REFRESH-INTERVAL:P3D
CALSCALE:GREGORIAN
BEGIN:VEVENT
DTSTART:20151017T160000Z
DTEND:20151017T190000Z
X-MICROSOFT-CDO-ALLDAYEVENT:FALSE
SUMMARY:The Great Laguna Clean-Up!
DESCRIPTION:
X-ALT-DESC;FMTTYPE=text/html:
LOCATION:Help Take Care of Your Local Waterway- Grab Some Garbage! Saturday\, October 17\, 9:00am-12:00pm Location: Laguna Wetlands Preserve\, entrance near Sebastopol Community Center\, 390 Morris Street\, Sebastopol Suitable for all ages. Minors must be accompanied by an adult. Help us clean up the City of Sebastopol's Laguna Wetlands Preserve before the rain starts falling and washes trash into our rivers. Meet at the entrance to the Preserve near the Sebastopol Community Center at 390 Morris Street\, Sebastopol. Bring gloves and friends. We'll provide snacks. No RSVP required. Only heavy rain cancels. For more information\, contact Hattie Brown\, Laguna de Santa Rosa Foundation\, (707) 527-9277 x 105\, hattie@lagunafoundation.org
UID:e.3189.5042834
SEQUENCE:3
DTSTAMP:20260419T192146Z
URL:https://business.sebastopol.org/events/details/the-great-laguna-clean-up-10-17-2015-5042834
END:VEVENT

END:VCALENDAR
