BEGIN:VCALENDAR
VERSION:2.0
PRODID:-//ChamberMaster//Event Calendar 2.0//EN
METHOD:PUBLISH
X-PUBLISHED-TTL:P3D
REFRESH-INTERVAL:P3D
CALSCALE:GREGORIAN
BEGIN:VEVENT
DTSTART:20141114T023000Z
DTEND:20141114T043000Z
X-MICROSOFT-CDO-ALLDAYEVENT:FALSE
SUMMARY:The Impact of Going Local
DESCRIPTION:Spend an exciting evening with Terry Garrett of Go Local.  Find out how you can expand your sales by working with other local businesses.
X-ALT-DESC;FMTTYPE=text/html:Spend an exciting evening with Terry Garrett of Go Local.  Find out how you can expand your sales by working with other local businesses.
LOCATION:O'Reilly Media 1005 Gravenstein Hwy N. Sebastopol\, Ca 95472
UID:e.3189.5041646
SEQUENCE:3
DTSTAMP:20260420T114752Z
URL:https://business.sebastopol.org/events/details/the-impact-of-going-local-11-13-2014-5041646
END:VEVENT

END:VCALENDAR
