BEGIN:VCALENDAR
VERSION:2.0
PRODID:-//ChamberMaster//Event Calendar 2.0//EN
METHOD:PUBLISH
X-PUBLISHED-TTL:P3D
REFRESH-INTERVAL:P3D
CALSCALE:GREGORIAN
BEGIN:VEVENT
DTSTART:20150913T220000Z
DTEND:20150914T020000Z
X-MICROSOFT-CDO-ALLDAYEVENT:FALSE
SUMMARY:The Laguna Garden Gala
DESCRIPTION:Join us to celebrate the harvest\, and toast our 25th Anniversary year!  Sip and savor the bounty of our farmers\, brewers and winemakers. Enjoy lively music and luxurious shopping in the gardens overlooking the Laguna. Come join us for our biggest annual fundraising event of the year\, complete with premium local wines & beer\, delicious local food pairings\, entertainment\, and\, of course\, gorgeous garden ART! The Gala is vitally important to our mission: to restore and conserve the Laguna de Santa Rosa and to inspire public appreciation for this Wetland of International Importance. \nThe Vine Hill House at O'Connell Vineyards of Sebastopol is the perfect setting for our beautiful fundraiser. The estate overlooks the Santa Rosa plain\, and is surrounded by grounds of lawns and flower gardens\, vineyards\, and spectacular views from every side. Bid on superb wine lots and fabulous\, one-of-a-kind wearable and garden art created by some of Sonoma County’s most notable artists during the Garden Art Silent Auction. Bid on Adventure Packages!  Live auctioneer\, Bill Carle\, will lead the entertaining auction of "Adventure Packages." Details will be released in the coming months.\nDelicious artisan food\, gourmet cheeses\, olives\, tomatoes\, desserts\, and more is all included with your ticket purchase! We offer a small selection of finely crafted beers for our hop loving guests. Brian Hunt\, brew master and owner of Moonlight Brewing\, will be donating a selection of his lagers. We welcome Steve Doty and his sour and wild artesian ales from Shady Oak Barrel House to the lineup. The Gala would not be complete without the selection of fine wines offered by our local wineries. Our silent auction includes a number of wine lots including private tastings and tours\, bottles in 1\, 2 or 3 set lots\, and magnums of fine wines. Some of these wines will also be available for all our guests to enjoy during the event. Pick up a raffle ticket for a chance to win a mixed case of wine!
X-ALT-DESC;FMTTYPE=text/html:Join us to celebrate the harvest\, and toast our 25th Anniversary year!  Sip and savor the bounty of our farmers\, brewers and winemakers. Enjoy lively music and luxurious shopping in the gardens overlooking the Laguna. Come join us for our biggest annual fundraising event of the year\, complete with premium local wines & beer\, delicious local food pairings\, entertainment\, and\, of course\, gorgeous garden ART! The Gala is vitally important to our mission: to restore and conserve the Laguna de Santa Rosa and to inspire public appreciation for this Wetland of International Importance. \nThe Vine Hill House at O'Connell Vineyards of Sebastopol is the perfect setting for our beautiful fundraiser. The estate overlooks the Santa Rosa plain\, and is surrounded by grounds of lawns and flower gardens\, vineyards\, and spectacular views from every side. Bid on superb wine lots and fabulous\, one-of-a-kind wearable and garden art created by some of Sonoma County’s most notable artists during the Garden Art Silent Auction. Bid on Adventure Packages!  Live auctioneer\, Bill Carle\, will lead the entertaining auction of "Adventure Packages." Details will be released in the coming months.\nDelicious artisan food\, gourmet cheeses\, olives\, tomatoes\, desserts\, and more is all included with your ticket purchase! We offer a small selection of finely crafted beers for our hop loving guests. Brian Hunt\, brew master and owner of Moonlight Brewing\, will be donating a selection of his lagers. We welcome Steve Doty and his sour and wild artesian ales from Shady Oak Barrel House to the lineup. The Gala would not be complete without the selection of fine wines offered by our local wineries. Our silent auction includes a number of wine lots including private tastings and tours\, bottles in 1\, 2 or 3 set lots\, and magnums of fine wines. Some of these wines will also be available for all our guests to enjoy during the event. Pick up a raffle ticket for a chance to win a mixed case of wine!
LOCATION:Vine Hill House 3601 Vine Hill Road\, Sebastopol
UID:e.3189.5042485
SEQUENCE:3
DTSTAMP:20260419T192319Z
URL:https://business.sebastopol.org/events/details/the-laguna-garden-gala-09-13-2015-5042485
END:VEVENT

END:VCALENDAR
