BEGIN:VCALENDAR
VERSION:2.0
PRODID:-//ChamberMaster//Event Calendar 2.0//EN
METHOD:PUBLISH
X-PUBLISHED-TTL:P3D
REFRESH-INTERVAL:P3D
CALSCALE:GREGORIAN
BEGIN:VEVENT
DTSTART:20140813T234500Z
DTEND:20140813T234500Z
X-MICROSOFT-CDO-ALLDAYEVENT:FALSE
SUMMARY:The Leftovers
DESCRIPTION:Come on down to O.C.A. and enjoy Local Talent: The Leftovers\,  on Sunday\, Sept. 21 at 5 pm. Roger Bolt\, Phil Marshall & Tony Gagarin are “The Marx Brothers of Americana”! Enjoy their humor-laced presentation of Americana\, blues\, boogie\, swing and Celtic vocals and music. Cabaret seating with fine refreshments for sale. $10 Gen/$8 Seniors & Advance  Wheelchair accessible. Call for Reservations
X-ALT-DESC;FMTTYPE=text/html:Come on down to O.C.A. and enjoy Local Talent: The Leftovers\,  on Sunday\, Sept. 21 at 5 pm. Roger Bolt\, Phil Marshall & Tony Gagarin are “The Marx Brothers of Americana”! Enjoy their humor-laced presentation of Americana\, blues\, boogie\, swing and Celtic vocals and music. Cabaret seating with fine refreshments for sale. $10 Gen/$8 Seniors & Advance  Wheelchair accessible. Call for Reservations
LOCATION:Occidenatl Center for the Arts
UID:e.3189.24804
SEQUENCE:3
DTSTAMP:20260419T123059Z
URL:https://business.sebastopol.org/events/details/the-leftovers-08-13-2014-24804
END:VEVENT

END:VCALENDAR
