BEGIN:VCALENDAR
VERSION:2.0
PRODID:-//ChamberMaster//Event Calendar 2.0//EN
METHOD:PUBLISH
X-PUBLISHED-TTL:P3D
REFRESH-INTERVAL:P3D
CALSCALE:GREGORIAN
BEGIN:VEVENT
DTSTART:20130419T020000Z
DTEND:20130419T040000Z
X-MICROSOFT-CDO-ALLDAYEVENT:FALSE
SUMMARY:The Levi Effect
DESCRIPTION:A fundraiser for the Sonoma County Family Y to purchase new indoor cycling bikes for their classes. Levi Leipheimer along with Frank Matson will be present to answer your questions after the showing. Join us with great raffle prizes that evening and your chance to win items from local businesses\, along with autographed items from Levi!
X-ALT-DESC;FMTTYPE=text/html:A fundraiser for the Sonoma County Family Y to purchase new indoor cycling bikes for their classes. Levi Leipheimer along with Frank Matson will be present to answer your questions after the showing. Join us with great raffle prizes that evening and your chance to win items from local businesses\, along with autographed items from Levi!
LOCATION:The Rialto Theater\, Sebastopol
UID:e.3189.5040609
SEQUENCE:3
DTSTAMP:20260421T215531Z
URL:https://business.sebastopol.org/events/details/the-levi-effect-04-18-2013-5040609
END:VEVENT

END:VCALENDAR
