BEGIN:VCALENDAR
VERSION:2.0
PRODID:-//ChamberMaster//Event Calendar 2.0//EN
METHOD:PUBLISH
X-PUBLISHED-TTL:P3D
REFRESH-INTERVAL:P3D
CALSCALE:GREGORIAN
BEGIN:VEVENT
DTSTART:20150308T230000Z
DTEND:20150316T000000Z
X-MICROSOFT-CDO-ALLDAYEVENT:FALSE
SUMMARY:The Mystical Arts of Tibet
DESCRIPTION:The Tibetan Gallery & Studio in the Barlow is hosting the monks of the Drepung Loseling Monastery in March.\n\nPlease check the schedule on the website.
X-ALT-DESC;FMTTYPE=text/html:The Tibetan Gallery & Studio in the Barlow is hosting the monks of the Drepung Loseling Monastery in March.\n\nPlease check the schedule on the website.
LOCATION:The Tibetan Gallery & Studio in the Barlow 6770 McKinley Street #130 Sebastopol\, CA 95472
UID:e.3189.5042178
SEQUENCE:3
DTSTAMP:20260420T053822Z
URL:https://business.sebastopol.org/events/details/the-mystical-arts-of-tibet-03-08-2015-5042178
END:VEVENT

END:VCALENDAR
