BEGIN:VCALENDAR
VERSION:2.0
PRODID:-//ChamberMaster//Event Calendar 2.0//EN
METHOD:PUBLISH
X-PUBLISHED-TTL:P3D
REFRESH-INTERVAL:P3D
CALSCALE:GREGORIAN
BEGIN:VEVENT
DTSTART:20141108T010000Z
DTEND:20141108T030000Z
X-MICROSOFT-CDO-ALLDAYEVENT:FALSE
SUMMARY:The Occidental Center for the Arts Gallery is having a Print
DESCRIPTION:Print Show and Sale\nReception Nov. 7 5-7PM\, Exhibition Nov. 7 - Dec. 21Open every Friday & \nSaturday 11- 4 pm\,\nby appointment and during events.\nOCA is Wheelchair accessible.
X-ALT-DESC;FMTTYPE=text/html:Print Show and Sale\nReception Nov. 7 5-7PM\, Exhibition Nov. 7 - Dec. 21Open every Friday & \nSaturday 11- 4 pm\,\nby appointment and during events.\nOCA is Wheelchair accessible.
LOCATION:The Occidental Center for the Arts Gallery3850 Doris Murphy Ct.\, Occidental\, CA 95465 near the cross streets of Bohemian Hwy & Graton Rd.
UID:e.3189.5041643
SEQUENCE:3
DTSTAMP:20260420T131855Z
URL:https://business.sebastopol.org/events/details/the-occidental-center-for-the-arts-gallery-is-having-a-print-11-07-2014-5041643
END:VEVENT

END:VCALENDAR
