BEGIN:VCALENDAR
VERSION:2.0
PRODID:-//ChamberMaster//Event Calendar 2.0//EN
METHOD:PUBLISH
X-PUBLISHED-TTL:P3D
REFRESH-INTERVAL:P3D
CALSCALE:GREGORIAN
BEGIN:VEVENT
DTSTART:20130110T210000Z
DTEND:20130228T230000Z
X-MICROSOFT-CDO-ALLDAYEVENT:FALSE
SUMMARY:The Pointless Sisters: A Quilted Fiber Arts Exhibit
DESCRIPTION:The exhibit includes the 2012 challenge\, “Sky” as well as other quilts\, large and small\, by members of the Pointless Sisters\, an art quilt group of the Santa Rosa Quilt Guild.   Show runs from January 10 to February 28th\, 2013  Opening Reception: January 13th\, 1 to 3:00 pm
X-ALT-DESC;FMTTYPE=text/html:The exhibit includes the 2012 challenge\, “Sky” as well as other quilts\, large and small\, by members of the Pointless Sisters\, an art quilt group of the Santa Rosa Quilt Guild.   Show runs from January 10 to February 28th\, 2013  Opening Reception: January 13th\, 1 to 3:00 pm
LOCATION:3850 Doris Murphy Ct-Off of Bohemian Highway Occidental CA
UID:e.3189.14445
SEQUENCE:3
DTSTAMP:20260422T010536Z
URL:https://business.sebastopol.org/events/details/the-pointless-sisters-a-quilted-fiber-arts-exhibit-01-10-2013-14445
END:VEVENT

END:VCALENDAR
