BEGIN:VCALENDAR
VERSION:2.0
PRODID:-//ChamberMaster//Event Calendar 2.0//EN
METHOD:PUBLISH
X-PUBLISHED-TTL:P3D
REFRESH-INTERVAL:P3D
CALSCALE:GREGORIAN
BEGIN:VEVENT
DTSTART:20150524T030000Z
DTEND:20150524T050000Z
X-MICROSOFT-CDO-ALLDAYEVENT:FALSE
SUMMARY:The Rhythm Rangers
DESCRIPTION:Saturday May 23 at 8 pm. The Rhythm Rangers!  Sonoma County's favorite Country Swing band will get your dancin' feet movin' and groovin' ! as they expertly cover blues\, rock\, country and western swing and more American roots music. Band Leader Kevin Russell on guitar & vocals joins Blair Hardman\, Rick Cutler\, Russ Gauthier\, Kirby Pierce\, Bobby Lee\, and Cori Woods. Swing in to Summer!  $15. Fine Refreshments. Wheelchair accessible.
X-ALT-DESC;FMTTYPE=text/html:Saturday May 23 at 8 pm. The Rhythm Rangers!  Sonoma County's favorite Country Swing band will get your dancin' feet movin' and groovin' ! as they expertly cover blues\, rock\, country and western swing and more American roots music. Band Leader Kevin Russell on guitar & vocals joins Blair Hardman\, Rick Cutler\, Russ Gauthier\, Kirby Pierce\, Bobby Lee\, and Cori Woods. Swing in to Summer!  $15. Fine Refreshments. Wheelchair accessible.
LOCATION:Occidental Center for the Arts - 3850 Doris Murphy Ct. Occidental\, CA.95465. Bohemian Hwy @ Graton Rd
UID:e.3189.32583
SEQUENCE:3
DTSTAMP:20260420T023225Z
URL:https://business.sebastopol.org/events/details/the-rhythm-rangers-05-23-2015-32583
END:VEVENT

END:VCALENDAR
