BEGIN:VCALENDAR
VERSION:2.0
PRODID:-//ChamberMaster//Event Calendar 2.0//EN
METHOD:PUBLISH
X-PUBLISHED-TTL:P3D
REFRESH-INTERVAL:P3D
CALSCALE:GREGORIAN
BEGIN:VEVENT
DTSTART:20120930T030000Z
DTEND:20120930T060000Z
X-MICROSOFT-CDO-ALLDAYEVENT:FALSE
SUMMARY:The Skerries in Concert
DESCRIPTION:Instrumental band led by master guitarist and composer Bill Horvitz\, Scott Walton (acoustic bass) and Tom Hayashi (drums) perform all-original jazz\, folk\, and rock-based music.   Admission:  $10 general. Cabaret seating\; Wine and beer for sale.
X-ALT-DESC;FMTTYPE=text/html:Instrumental band led by master guitarist and composer Bill Horvitz\, Scott Walton (acoustic bass) and Tom Hayashi (drums) perform all-original jazz\, folk\, and rock-based music.   Admission:  $10 general. Cabaret seating\; Wine and beer for sale.
LOCATION:Occidental Center for the Arts 3850 Doris Murphy Way Occidental
UID:e.3189.8824
SEQUENCE:3
DTSTAMP:20260422T084147Z
URL:https://business.sebastopol.org/events/details/the-skerries-in-concert-09-29-2012-8824
END:VEVENT

END:VCALENDAR
