BEGIN:VCALENDAR
VERSION:2.0
PRODID:-//ChamberMaster//Event Calendar 2.0//EN
METHOD:PUBLISH
X-PUBLISHED-TTL:P3D
REFRESH-INTERVAL:P3D
CALSCALE:GREGORIAN
BEGIN:VEVENT
DTSTART:20160117T040000Z
DTEND:20160117T060000Z
X-MICROSOFT-CDO-ALLDAYEVENT:FALSE
SUMMARY:The Songcatcher's Tour
DESCRIPTION:Saturday\, January 16 \, 2016. Occidental Center for the Arts presents The Songcatchers Tour: Jim Kweskin & Meredith Axelrod with Suzy Thompson .This compelling fusion of Vintage Americana past and present offers the potent co-bill of Jug Band legend Jim Kweskin with young heiress-apparent\, captivating singer/guitarist Meredith Axelrod. They are joined by famed fiddler and Cajun/blues singer Suzy Thompson for this show only! This concert is a CD release for a new collaboration “Come On In”.  8 pm Concert. $25. There will be a Workshop offered at 5 pm. $20 Workshop only/Advance Registration . Only $35 for Both! Don’t miss this amazing showcase of Vintage Americana songs by these fine performance and teaching artists! Bohemian Hwy @ Graton Rd. Occidental. 707-874-9392. www.occidentalcenterforthearts.org.
X-ALT-DESC;FMTTYPE=text/html:<!--  Visual Designer HTML --><br /><blockquote type="cite" style="font-size: 12px"><div><div style="word-wrap: break-word"><div><p>&nbsp\;<b>Saturday\, January 16 \, 2016</b>.&nbsp\;<b>Occidental Center for the Arts&nbsp\;</b>presents&nbsp\;<i>The Songcatchers Tour:&nbsp\;</i>Jim Kweskin &amp\; Meredith Axelrod with Suzy Thompson .This compelling fusion of Vintage Americana past and present offers the potent co-bill of Jug Band legend Jim Kweskin with young heiress-apparent\, captivating singer/guitarist Meredith Axelrod. They are joined by famed fiddler and Cajun/blues singer Suzy Thompson for this show only! This concert is a CD release for a new collaboration “Come On In”. &nbsp\;8 pm Concert. $25. There will be a Workshop offered at 5 pm. $20 Workshop only/Advance Registration . Only $35 for Both! Don’t miss this amazing showcase of Vintage Americana songs by these fine performance and teaching artists! Bohemian Hwy @ Graton Rd. Occidental. 707-874-9392.&nbsp\;<a href="http://www.occidentalcenterforthearts.org/">www.occidentalcenterforthearts.org</a>.</p></div></div></div></blockquote>
LOCATION:Occidental Center for the Arts3850 Doris Murphy Ct.\, Occidental CA. 95465
UID:e.3189.5042981
SEQUENCE:3
DTSTAMP:20260419T143202Z
URL:https://business.sebastopol.org/events/details/the-songcatcher-s-tour-01-16-2016-5042981
END:VEVENT

END:VCALENDAR
