BEGIN:VCALENDAR
VERSION:2.0
PRODID:-//ChamberMaster//Event Calendar 2.0//EN
METHOD:PUBLISH
X-PUBLISHED-TTL:P3D
REFRESH-INTERVAL:P3D
CALSCALE:GREGORIAN
BEGIN:VEVENT
DTSTART:20130516T230000Z
DTEND:20130517T010000Z
X-MICROSOFT-CDO-ALLDAYEVENT:FALSE
SUMMARY:The Sonoma Coiunty Regional Forum
DESCRIPTION:The Sonoma County Regional Forum:\n"Public/Private Partnerships What's in it for businees?"\n\n Don't miss this chance to engage in an interactive setting as leaders from the public and private sectors discuss legislative priorities for state-level action. Participate in a discussion about current and future challenges and solutions with relevance to business\, and vote on your priorities.  \nAs one of 16 Regional Forums in California\, this process is meant to capture new ideas from attendees\, so that they may be included in the agenda of the 2013 California Economic Summit. Admission is free\, and an RSVP is required. To register\, click the link below\, visit SonomaEDB.org\, or contact Ethan Brown at ethan.brown@sonoma-county.org  or (707) 565-7589 \n\nCall 707-565-7589 for more information
X-ALT-DESC;FMTTYPE=text/html:The Sonoma County Regional Forum:\n"Public/Private Partnerships What's in it for businees?"\n\n Don't miss this chance to engage in an interactive setting as leaders from the public and private sectors discuss legislative priorities for state-level action. Participate in a discussion about current and future challenges and solutions with relevance to business\, and vote on your priorities.  \nAs one of 16 Regional Forums in California\, this process is meant to capture new ideas from attendees\, so that they may be included in the agenda of the 2013 California Economic Summit. Admission is free\, and an RSVP is required. To register\, click the link below\, visit SonomaEDB.org\, or contact Ethan Brown at ethan.brown@sonoma-county.org <mailto:ethan.brown@sonoma-county.org> or (707) 565-7589 \n\nCall 707-565-7589 for more information
LOCATION:Hilton Sonoma Wine Country\, Santa Rosa
UID:e.3189.15551
SEQUENCE:3
DTSTAMP:20260421T203342Z
URL:https://business.sebastopol.org/events/details/the-sonoma-coiunty-regional-forum-05-16-2013-15551
END:VEVENT

END:VCALENDAR
