BEGIN:VCALENDAR
VERSION:2.0
PRODID:-//ChamberMaster//Event Calendar 2.0//EN
METHOD:PUBLISH
X-PUBLISHED-TTL:P3D
REFRESH-INTERVAL:P3D
CALSCALE:GREGORIAN
BEGIN:VEVENT
DTSTART:20151108T040000Z
DTEND:20151108T070000Z
X-MICROSOFT-CDO-ALLDAYEVENT:FALSE
SUMMARY:The Sylvia Herold Ensemble
DESCRIPTION:Singer\, guitarist\, and song sleuth Sylvia Herold (formerly of Cats & Jammers and the Hot Club of San Francisco) masterfully mines the motherlode of American jazz and popular song from the 1930s through the 1960s\, from the smooth West Coast jazz of June Christy to the smoky and sassy Peggy Lee. With a voice the San Francisco Examiner has hailed as “mesmerizing\,” Herold loves to surprise and delight listeners with her witty and wide-ranging song choices.   The ensemble also showcases the skills of highly entertaining fingerstyle guitarist Mike Wollenberg and Chuck Ervin (a Sebastopol Guitar Fest favorite!) on plucked and bowed double bass. Serious? Oh\, sure. Sometimes silly? Why\, of course!
X-ALT-DESC;FMTTYPE=text/html:Singer\, guitarist\, and song sleuth Sylvia Herold (formerly of Cats & Jammers and the Hot Club of San Francisco) masterfully mines the motherlode of American jazz and popular song from the 1930s through the 1960s\, from the smooth West Coast jazz of June Christy to the smoky and sassy Peggy Lee. With a voice the San Francisco Examiner has hailed as “mesmerizing\,” Herold loves to surprise and delight listeners with her witty and wide-ranging song choices.   The ensemble also showcases the skills of highly entertaining fingerstyle guitarist Mike Wollenberg and Chuck Ervin (a Sebastopol Guitar Fest favorite!) on plucked and bowed double bass. Serious? Oh\, sure. Sometimes silly? Why\, of course!
LOCATION:Sebastopol Community Cultural Center390 Morris StreetSebastopol\, CA95472
UID:e.3189.5042879
SEQUENCE:3
DTSTAMP:20260419T161201Z
URL:https://business.sebastopol.org/events/details/the-sylvia-herold-ensemble-11-07-2015-5042879
END:VEVENT

END:VCALENDAR
