BEGIN:VCALENDAR
VERSION:2.0
PRODID:-//ChamberMaster//Event Calendar 2.0//EN
METHOD:PUBLISH
X-PUBLISHED-TTL:P3D
REFRESH-INTERVAL:P3D
CALSCALE:GREGORIAN
BEGIN:VEVENT
DTSTART:20130302T230000Z
DTEND:20130303T023000Z
X-MICROSOFT-CDO-ALLDAYEVENT:FALSE
SUMMARY:The Taiko Experience Workshop
DESCRIPTION:Ever dreamed of playing TAIKO drumming? Here is your chance!\n\nLearn and perform the Japanese big drums with Sonoma County Taiko!\n\nThe Taiko Experience Workshop is a 2.5 hour workshop that will cover the basics of taiko drumming.\n\nYou will be taught a song to perform with Sonoma County Taiko at the end of the workshop. Invite your friends and family to see you play taiko.\n\nThe registration fee ($45) will cover the workshop and admission for 2 guests to the 30-minute performance (6:00-6:30).\n\nNo prior experience necessary.\nAges 13 and up.\nPre-registration is required.
X-ALT-DESC;FMTTYPE=text/html:Ever dreamed of playing TAIKO drumming? Here is your chance!\n\nLearn and perform the Japanese big drums with Sonoma County Taiko!\n\nThe Taiko Experience Workshop is a 2.5 hour workshop that will cover the basics of taiko drumming.\n\nYou will be taught a song to perform with Sonoma County Taiko at the end of the workshop. Invite your friends and family to see you play taiko.\n\nThe registration fee ($45) will cover the workshop and admission for 2 guests to the 30-minute performance (6:00-6:30).\n\nNo prior experience necessary.\nAges 13 and up.\nPre-registration is required.
LOCATION:The Memorial Hall at Enmanji Buddhist Temple 1200 Gravenstein Hwy South\, Sebastopol\, CA 95472
UID:e.3189.5040439
SEQUENCE:3
DTSTAMP:20260421T232710Z
URL:https://business.sebastopol.org/events/details/the-taiko-experience-workshop-03-02-2013-5040439
END:VEVENT

END:VCALENDAR
