BEGIN:VCALENDAR
VERSION:2.0
PRODID:-//ChamberMaster//Event Calendar 2.0//EN
METHOD:PUBLISH
X-PUBLISHED-TTL:P3D
REFRESH-INTERVAL:P3D
CALSCALE:GREGORIAN
BEGIN:VEVENT
DTSTART:20150711T020000Z
DTEND:20150711T050000Z
X-MICROSOFT-CDO-ALLDAYEVENT:FALSE
SUMMARY:Three Poets: Rebecca Patrascu\, Else Rosager\, Clara Rosemard
DESCRIPTION:These fine local poets find the rich beauty in the ordinary. Patrascu\, Rosager and Rosemarda will read selected pieces from their new collections Before Noon\, So Far and Naked Branches. Following the reading there will be a discussion and book signing.\n\nJoin three local poets as they share their latest works. Else Rosager\, whose eye for graphic design has developed her powers of keen observation\, will read from So Far. Local counselor and writing teacher\, Clara Rosemarda will be sharing her latest work Naked Branches\, published by Small Change Series\, WordTemple Press in 2014. Also reading will be Rebecca Patrascu\, whose chapbook Before Noon was a semi-finalist for the New Women’s Voices competition.\n\nFREE\, with refreshments by donation.
X-ALT-DESC;FMTTYPE=text/html:These fine local poets find the rich beauty in the ordinary. Patrascu\, Rosager and Rosemarda will read selected pieces from their new collections Before Noon\, So Far and Naked Branches. Following the reading there will be a discussion and book signing.\n\nJoin three local poets as they share their latest works. Else Rosager\, whose eye for graphic design has developed her powers of keen observation\, will read from So Far. Local counselor and writing teacher\, Clara Rosemarda will be sharing her latest work Naked Branches\, published by Small Change Series\, WordTemple Press in 2014. Also reading will be Rebecca Patrascu\, whose chapbook Before Noon was a semi-finalist for the New Women’s Voices competition.\n\nFREE\, with refreshments by donation.
LOCATION:Occidental Center for the Arts
UID:e.3189.5042555
SEQUENCE:3
DTSTAMP:20260420T003631Z
URL:https://business.sebastopol.org/events/details/three-poets-rebecca-patrascu-else-rosager-clara-rosemard-07-10-2015-5042555
END:VEVENT

END:VCALENDAR
