BEGIN:VCALENDAR
VERSION:2.0
PRODID:-//ChamberMaster//Event Calendar 2.0//EN
METHOD:PUBLISH
X-PUBLISHED-TTL:P3D
REFRESH-INTERVAL:P3D
CALSCALE:GREGORIAN
BEGIN:VEVENT
DTSTART:20150809T130000Z
DTEND:20150810T010000Z
X-MICROSOFT-CDO-ALLDAYEVENT:FALSE
SUMMARY:Tour d'Organics
DESCRIPTION:The Tour d'Organics-Sun August 9th\, 2015: Sign Up Now!\nThe Tour d'Organics is a West Sonoma County recreational bicycle ride with four routes (16\,35\,65 and 100 miles) and stops at the local organic farms. All routes start and end in Sebastopol.  The longest goes south for a few miles\, then heads north beyond Healdsburg\, east to Geyserville\, and returns south to Sebastopol.  The ride is supported by Velo Med (physician riders)\, Red Peloton as bike patrol\, Sonoma County Radio Amateurs providing HAM radio communication and SAG support\, and excellent bike mechanics.  The expo at the end of ride meal offers beer\, wine\, music\, and fabulous food\, in addition to some very West County vendors and exhibitors (artists\, electric vehicles\, bicycle jewelry\, etc.) As an added bonus\, this fundraiser supports the Sebastopol Community Cultural Center\, which serves the recreational\, enrichment\, and entertainment needs of West Sonoma County.\n\nTd'O Event Website: www.seb.org
X-ALT-DESC;FMTTYPE=text/html:The Tour d'Organics-Sun August 9th\, 2015: Sign Up Now!\nThe Tour d'Organics is a West Sonoma County recreational bicycle ride with four routes (16\,35\,65 and 100 miles) and stops at the local organic farms. All routes start and end in Sebastopol.  The longest goes south for a few miles\, then heads north beyond Healdsburg\, east to Geyserville\, and returns south to Sebastopol.  The ride is supported by Velo Med (physician riders)\, Red Peloton as bike patrol\, Sonoma County Radio Amateurs providing HAM radio communication and SAG support\, and excellent bike mechanics.  The expo at the end of ride meal offers beer\, wine\, music\, and fabulous food\, in addition to some very West County vendors and exhibitors (artists\, electric vehicles\, bicycle jewelry\, etc.) As an added bonus\, this fundraiser supports the Sebastopol Community Cultural Center\, which serves the recreational\, enrichment\, and entertainment needs of West Sonoma County.\n\nTd'O Event Website: www.seb.org
LOCATION:Sebastopol Community Cultural Center 390 Morris Street Sebastopol\, CA. 95472
UID:e.3189.5042217
SEQUENCE:3
DTSTAMP:20260419T210248Z
URL:https://business.sebastopol.org/events/details/tour-d-organics-08-09-2015-5042217
END:VEVENT

END:VCALENDAR
