BEGIN:VCALENDAR
VERSION:2.0
PRODID:-//ChamberMaster//Event Calendar 2.0//EN
METHOD:PUBLISH
X-PUBLISHED-TTL:P3D
REFRESH-INTERVAL:P3D
CALSCALE:GREGORIAN
BEGIN:VEVENT
DTSTART:20140810T130000Z
DTEND:20140811T010000Z
X-MICROSOFT-CDO-ALLDAYEVENT:FALSE
SUMMARY:Tour d'Organics Bike Ride
DESCRIPTION:The Tour d’Organics – August 10\, 2014: Sign Up Now! The 2014 Tour d’Organics Bicycle Ride will be held on Sunday\, August 10th. With four routes to choose from (16\, 30\, 70\, and 100 miles) and local\, organic bounty at every rest stop\, the Tour d’Organics is a west county cycling event not to be missed! Unlike other rides\, all the ride food offered is organic\, fresh\, and locally sourced. The Tour d'Organics offers an educational experience\, fueling athletic pursuits in a way that is healthy for riders and the planet. As an added bonus\, this fundraiser supports the Sebastopol Community Cultural Center\, which serves the recreational\, enrichment\, and entertainment needs of West Sonoma County.
X-ALT-DESC;FMTTYPE=text/html:The Tour d’Organics – August 10\, 2014: Sign Up Now! The 2014 Tour d’Organics Bicycle Ride will be held on Sunday\, August 10th. With four routes to choose from (16\, 30\, 70\, and 100 miles) and local\, organic bounty at every rest stop\, the Tour d’Organics is a west county cycling event not to be missed! Unlike other rides\, all the ride food offered is organic\, fresh\, and locally sourced. The Tour d'Organics offers an educational experience\, fueling athletic pursuits in a way that is healthy for riders and the planet. As an added bonus\, this fundraiser supports the Sebastopol Community Cultural Center\, which serves the recreational\, enrichment\, and entertainment needs of West Sonoma County.
LOCATION:Sebastopol Community Cultural Center
UID:e.3189.5041383
SEQUENCE:3
DTSTAMP:20260419T123540Z
URL:https://business.sebastopol.org/events/details/tour-d-organics-bike-ride-08-10-2014-5041383
END:VEVENT

END:VCALENDAR
