BEGIN:VCALENDAR
VERSION:2.0
PRODID:-//ChamberMaster//Event Calendar 2.0//EN
METHOD:PUBLISH
X-PUBLISHED-TTL:P3D
REFRESH-INTERVAL:P3D
CALSCALE:GREGORIAN
BEGIN:VEVENT
DTSTART:20150619T070000Z
DTEND:20150913T070000Z
X-MICROSOFT-CDO-ALLDAYEVENT:FALSE
SUMMARY:Transcendence Theatre Company's ''Broadway Under The Stars i
DESCRIPTION:Transcendence's "Broadway Under The Stars" is a series of award winning concerts featuring accomplished Broadway and Hollywood performers under the stars in the majestic open-air winery ruins in Sonoma's Jack London State Park. Last year’s season included Broadway performers from The Book Of Mormon\, Wicked\, Les Miserables\, Gypsy\, Hairspray\, Mary Poppins\, Mamma Mia and more. \n\nEach evening begins with pre-show picnicking on the great lawn\, alongside the vineyards of the park (with multiple wineries pouring and food and wine available for purchase)\, and concludes with an evening of inspirational entertainment that Before It’s News dubbed “…goosebumps all around.” Recently named "Theater Of The Year" by Broadway World San Francisco and the #2 "Outdoor Concert Venue You Shouldn't Miss" in the United States by USA Today's 10 Best\, this concert series offers sensational evenings in wine country you'll never forget.\n\nReserve your tickets now at:  www.TTCsonoma.org.\n \n2015 Season - Transcendence’s “Broadway Under The Stars” \n\nOh\, What A Night! - June 19\, 20\, 21\, 26\, 27\, 28\, July 2\, 3\nFantastical Family Night - July 17\, 18\nRhythm of Life - August 7\, 8\, 14\, 15\, 16\, 21\, 22\, 23\nGala Celebration - September 11\, 12\, 13\n \n5:00pm Pre-Show Picnicking Begins on the Great Lawn\n7:30pm Concert in the Winery Ruins\n \nJack London State Park – Sonoma County\n2400 London Ranch Road\nGlen Ellen\, CA 95442\,  1 877 424-1414\nTickets Cost Range - $29 - $129\n \nPromo Video -  https://www.youtube.com/watch?v=5j8Jf7u8S1Y
X-ALT-DESC;FMTTYPE=text/html:Transcendence's "Broadway Under The Stars" is a series of award winning concerts featuring accomplished Broadway and Hollywood performers under the stars in the majestic open-air winery ruins in Sonoma's Jack London State Park. Last year’s season included Broadway performers from The Book Of Mormon\, Wicked\, Les Miserables\, Gypsy\, Hairspray\, Mary Poppins\, Mamma Mia and more. \n\nEach evening begins with pre-show picnicking on the great lawn\, alongside the vineyards of the park (with multiple wineries pouring and food and wine available for purchase)\, and concludes with an evening of inspirational entertainment that Before It’s News dubbed “…goosebumps all around.” Recently named "Theater Of The Year" by Broadway World San Francisco and the #2 "Outdoor Concert Venue You Shouldn't Miss" in the United States by USA Today's 10 Best\, this concert series offers sensational evenings in wine country you'll never forget.\n\nReserve your tickets now at:  www.TTCsonoma.org.\n \n2015 Season - Transcendence’s “Broadway Under The Stars” \n\nOh\, What A Night! - June 19\, 20\, 21\, 26\, 27\, 28\, July 2\, 3\nFantastical Family Night - July 17\, 18\nRhythm of Life - August 7\, 8\, 14\, 15\, 16\, 21\, 22\, 23\nGala Celebration - September 11\, 12\, 13\n \n5:00pm Pre-Show Picnicking Begins on the Great Lawn\n7:30pm Concert in the Winery Ruins\n \nJack London State Park – Sonoma County\n2400 London Ranch Road\nGlen Ellen\, CA 95442\,  1 877 424-1414\nTickets Cost Range - $29 - $129\n \nPromo Video -  https://www.youtube.com/watch?v=5j8Jf7u8S1Y
LOCATION:Jack London State Park
UID:e.3189.5042245
SEQUENCE:3
DTSTAMP:20260419T192616Z
URL:https://business.sebastopol.org/events/details/transcendence-theatre-company-s-broadway-under-the-stars-i-06-19-2015-5042245
END:VEVENT

END:VCALENDAR
