BEGIN:VCALENDAR
VERSION:2.0
PRODID:-//ChamberMaster//Event Calendar 2.0//EN
METHOD:PUBLISH
X-PUBLISHED-TTL:P3D
REFRESH-INTERVAL:P3D
CALSCALE:GREGORIAN
BEGIN:VEVENT
DTSTART:20151205T033000Z
DTEND:20151206T033000Z
X-MICROSOFT-CDO-ALLDAYEVENT:FALSE
SUMMARY:Transcendence Theatre’s Co. Christmas Concert
DESCRIPTION:Joy to the World from Transcendence's "Broadway Under The Stars"  Sonoma’s acclaimed Transcendence Theatre Company presents their first-ever holiday show in a limited run that you can only see at Wells Fargo Center for the Arts. Join the extraordinary cast of Broadway professionals for a concert filled with Broadway showstoppers\, holiday favorites\, & modern twists on some of the world’s most uplifting & cherished songs.  Performers scheduled to appear include Shannon O'Bryan (White Christmas on Broadway)\, Meggie Cansler (Wicked on Broadway)\, Desireé Davar (West Side Story on Broadway)\, Eric Jackson (Thoroughly Modern Millie on Broadway)\, Nicolas Dromard (Mary Poppins on Broadway)\, and many more. This production is sponsored by Nelson Family of Companies. For more information and to purchase tickets\, please visit the website: www.BroadwayWellsFargo.com.
X-ALT-DESC;FMTTYPE=text/html:<!--  Visual Designer HTML --><p>Joy to the World from Transcendence's "Broadway Under The Stars"&nbsp\;</p><p>&nbsp\;</p><p>Sonoma’s acclaimed Transcendence Theatre Company presents their first-ever holiday show in a limited run that you can only see at Wells Fargo Center for the Arts. Join the extraordinary cast of Broadway professionals for a concert filled with Broadway showstoppers\, holiday favorites\, &amp\; modern twists on some of the world’s most uplifting &amp\; cherished songs. </p><p>&nbsp\;</p><p>Performers scheduled to appear include Shannon O'Bryan (<strong><span style="font-weight: bold\;"><span style="font-weight: bold\;"><span style="font-weight: bold\;"><em><span style="font-style: italic\;"><span style="font-style: italic\;"><span style="font-style: italic\;">White Christmas </span></span></span></em></span></span></span></strong>on Broadway)\, Meggie Cansler (<em><span style="font-style: italic\;"><span style="font-style: italic\;"><span style="font-style: italic\;"><strong><span style="font-weight: bold\;"><span style="font-weight: bold\;"><span style="font-weight: bold\;">Wicked</span></span></span></strong></span></span></span></em> on Broadway)\, Desireé Davar (<em><span style="font-style: italic\;"><span style="font-style: italic\;"><span style="font-style: italic\;"><strong><span style="font-weight: bold\;"><span style="font-weight: bold\;"><span style="font-weight: bold\;">West Side Story </span></span></span></strong></span></span></span></em>on Broadway)\, Eric Jackson (<em><span style="font-style: italic\;"><span style="font-style: italic\;"><span style="font-style: italic\;"><strong><span style="font-weight: bold\;"><span style="font-weight: bold\;"><span style="font-weight: bold\;">Thoroughly Modern Millie </span></span></span></strong></span></span></span></em>on Broadway)\, Nicolas Dromard (<strong><span style="font-weight: bold\;"><span style="font-weight: bold\;"><span style="font-weight: bold\;"><em><span style="font-style: italic\;"><span style="font-style: italic\;"><span style="font-style: italic\;">Mary Poppins </span></span></span></em></span></span></span></strong>on Broadway)\, and many more. This production is sponsored by Nelson Family of Companies. </p><p>For&nbsp\;more information and to purchase&nbsp\;tickets\, please visit the website: www.BroadwayWellsFargo.com.</p>
LOCATION:Wells Fargo Center for the Arts 50 Mark West Springs Road Santa Rosa\, CA 95403 Dates: December 4\, 7:30pm (Fri) December 5\, 2:00pm (Sat) December 5\, 7:30pm (Sat) Prices: $129 (VIP)\, $65\, $50\, $35
UID:e.3189.35778
SEQUENCE:3
DTSTAMP:20260419T161644Z
URL:https://business.sebastopol.org/events/details/transcendence-theatre-s-co-christmas-concert-12-04-2015-35778
END:VEVENT

END:VCALENDAR
