BEGIN:VCALENDAR
VERSION:2.0
PRODID:-//ChamberMaster//Event Calendar 2.0//EN
METHOD:PUBLISH
X-PUBLISHED-TTL:P3D
REFRESH-INTERVAL:P3D
CALSCALE:GREGORIAN
BEGIN:VEVENT
DTSTART:20150222T033000Z
DTEND:20150222T063000Z
X-MICROSOFT-CDO-ALLDAYEVENT:FALSE
SUMMARY:Turtle Island Quartet
DESCRIPTION:Redwood Arts Council Presents Turtle Island Quartet “Birth of the Cool”  Celebrating “Cool Jazz\,” marked by Miles Davis in collaboration with Gil Evans\, Gerry Mulligan\, the Modern Jazz Quartet\,  Dave Brubeck\, John Coltrane\, and others Tickets: General admission: $30\, (refreshments included) Available: www.redwoodarts.org \, In Occidental at Hand Goods\; or through Brown Paper Tickets at (800) 838-3006 or www.brownpapertickets.com
X-ALT-DESC;FMTTYPE=text/html:Redwood Arts Council Presents Turtle Island Quartet “Birth of the Cool”  Celebrating “Cool Jazz\,” marked by Miles Davis in collaboration with Gil Evans\, Gerry Mulligan\, the Modern Jazz Quartet\,  Dave Brubeck\, John Coltrane\, and others Tickets: General admission: $30\, (refreshments included) Available: www.redwoodarts.org <http://www.redwoodarts.org>\, In Occidental at Hand Goods\; or through Brown Paper Tickets at (800) 838-3006 or www.brownpapertickets.com <http://www.brownpapertickets.com>
LOCATION:Occidental Center for the Arts 3850 Doris Murphy Court Occidental
UID:e.3189.31938
SEQUENCE:3
DTSTAMP:20260420T065638Z
URL:https://business.sebastopol.org/events/details/turtle-island-quartet-02-21-2015-31938
END:VEVENT

END:VCALENDAR
