BEGIN:VCALENDAR
VERSION:2.0
PRODID:-//ChamberMaster//Event Calendar 2.0//EN
METHOD:PUBLISH
X-PUBLISHED-TTL:P3D
REFRESH-INTERVAL:P3D
CALSCALE:GREGORIAN
BEGIN:VEVENT
DTSTART:20150619T013000Z
DTEND:20150619T030000Z
X-MICROSOFT-CDO-ALLDAYEVENT:FALSE
SUMMARY:Untying the Business Knot
DESCRIPTION:Untying the business knot\,  Problem solving as a crucial skill for SUCCESS.\nFor more details visit sepyes.com
X-ALT-DESC;FMTTYPE=text/html:Untying the business knot\,  Problem solving as a crucial skill for SUCCESS.\nFor more details visit sepyes.com
LOCATION:O'Reilly Media 1005 Gravenstein Hwy Sebastopol\, Ca. 95472
UID:e.3189.5042503
SEQUENCE:3
DTSTAMP:20260420T003539Z
URL:https://business.sebastopol.org/events/details/untying-the-business-knot-06-18-2015-5042503
END:VEVENT

END:VCALENDAR
