BEGIN:VCALENDAR
VERSION:2.0
PRODID:-//ChamberMaster//Event Calendar 2.0//EN
METHOD:PUBLISH
X-PUBLISHED-TTL:P3D
REFRESH-INTERVAL:P3D
CALSCALE:GREGORIAN
BEGIN:VEVENT
DTSTART:20151003T010000Z
DTEND:20151003T040000Z
X-MICROSOFT-CDO-ALLDAYEVENT:FALSE
SUMMARY:Valley Fire Fundraiser
DESCRIPTION:THIS FUNDRAISER WILL PROVIDE EMERGENCY CASH to families who lost homes and businesses in the Valley Fire\, helping them get through mountains of insurance paperwork and logistics needed to put their lives back together. Residents of Middletown\, Hidden Valley Lake\, Anderson Springs and Cobb\, CA were affected\, among others.\n100% of funds raised will be given directly to victims at a benefit event on October 2\, 2015 in Sebastopol\, CA!! To get your tickets\, donate here. Even if you can't attend\, donate here to make a difference: http://www.plumfund.com/valleyhope\nThis fundraiser is being organized by Plumfund\, a Sonoma County crowdfunding site and the makers of Honeyfund. There will be live music\, food\, raffle items and more!\n\n\nDid you lose your home or business in the Valley Fire? Register  to receive support funds and free admission to the event!http://www.plumfund.com/valleyhope
X-ALT-DESC;FMTTYPE=text/html:<!--  Visual Designer HTML --><div>THIS FUNDRAISER WILL PROVIDE EMERGENCY CASH to families who lost homes and businesses in the Valley Fire\, helping them get through mountains of insurance paperwork and logistics needed to put their lives back together. Residents of Middletown\, Hidden Valley Lake\, Anderson Springs and Cobb\, CA were affected\, among others.</div><div><br /></div><div>100% of funds raised will be given directly to victims at a benefit event on October 2\, 2015 in Sebastopol\, CA!! To get your tickets\, donate here. Even if you can&#39\;t attend\, donate here to make a difference: http://www.plumfund.com/valleyhope</div><div><br /></div><div>This fundraiser is being organized by Plumfund\, a Sonoma County crowdfunding site and the makers of Honeyfund. There will be live music\, food\, raffle items and more!</div><div>\n</div><div>\n</div><div>\n</div><div>Did you lose your home or business in the Valley Fire? Register &nbsp\;to receive support funds and free admission to the event!</div><div>http://www.plumfund.com/valleyhope</div><div><br />\n</div>
LOCATION:Event Venue:Community Church of Sebastopol1000 Gravenstein Hwy NSebastopol\, CA 95472When:October 2\, 20156 - 9pm
UID:e.3189.5042806
SEQUENCE:3
DTSTAMP:20260419T174338Z
URL:https://business.sebastopol.org/events/details/valley-fire-fundraiser-10-02-2015-5042806
END:VEVENT

END:VCALENDAR
