BEGIN:VCALENDAR
VERSION:2.0
PRODID:-//ChamberMaster//Event Calendar 2.0//EN
METHOD:PUBLISH
X-PUBLISHED-TTL:P3D
REFRESH-INTERVAL:P3D
CALSCALE:GREGORIAN
BEGIN:VEVENT
DTSTART:20151111T190000Z
DTEND:20151111T220000Z
X-MICROSOFT-CDO-ALLDAYEVENT:FALSE
SUMMARY:Veterans Day Lunch at Sebastopol Veterans Memorial Building
DESCRIPTION:The Veterans of Foreign Wars Gold Ridge Post 3919 invites you to join them for a free lunch on Veteran's Day. Come hear a variety of speakers and enjoy complimentary sandwiches.
X-ALT-DESC;FMTTYPE=text/html:The Veterans of Foreign Wars Gold Ridge Post 3919 invites you to join them for a free lunch on Veteran's Day. Come hear a variety of speakers and enjoy complimentary sandwiches.
LOCATION:Sebastopol Veterans Memorial Building at Sebastopol Center for the Arts 282 S High Street Sebastopol\, CA 95472
UID:e.3189.35997
SEQUENCE:3
DTSTAMP:20260419T161810Z
URL:https://business.sebastopol.org/events/details/veterans-day-lunch-at-sebastopol-veterans-memorial-building-11-11-2015-35997
END:VEVENT

END:VCALENDAR
