BEGIN:VCALENDAR
VERSION:2.0
PRODID:-//ChamberMaster//Event Calendar 2.0//EN
METHOD:PUBLISH
X-PUBLISHED-TTL:P3D
REFRESH-INTERVAL:P3D
CALSCALE:GREGORIAN
BEGIN:VEVENT
DTSTART:20141030T180000Z
DTEND:20141031T000000Z
X-MICROSOFT-CDO-ALLDAYEVENT:FALSE
SUMMARY:We're open!
DESCRIPTION:Kitty Hawk\, located in downtown Sebastopol\, is a new hot spot for fresh fine art by local Northern California and East Bay emerging artists. We sell fine goods from around the world ranging from hand-loomed clothing from Peru and eco friendly toys designed in the Netherlands. Exquisite soaps and scents made in Northern California and Brooklyn New York. Hand crafted one-of-a-kind artist's goods. We hold events and exhibitions throughout the month. Come experience fine art + wonderful things.
X-ALT-DESC;FMTTYPE=text/html:Kitty Hawk\, located in downtown Sebastopol\, is a new hot spot for fresh fine art by local Northern California and East Bay emerging artists. We sell fine goods from around the world ranging from hand-loomed clothing from Peru and eco friendly toys designed in the Netherlands. Exquisite soaps and scents made in Northern California and Brooklyn New York. Hand crafted one-of-a-kind artist's goods. We hold events and exhibitions throughout the month. Come experience fine art + wonderful things.
LOCATION:7203 Bodega Ave Sebastopol CA 95472 Open WED-SUN 11am - 5 pm
UID:e.3189.5041640
SEQUENCE:3
DTSTAMP:20260421T084425Z
URL:https://business.sebastopol.org/events/details/we-re-open-10-30-2014-5041640
END:VEVENT

END:VCALENDAR
