BEGIN:VCALENDAR
VERSION:2.0
PRODID:-//ChamberMaster//Event Calendar 2.0//EN
METHOD:PUBLISH
X-PUBLISHED-TTL:P3D
REFRESH-INTERVAL:P3D
CALSCALE:GREGORIAN
BEGIN:VEVENT
DTSTART:20150926T170000Z
DTEND:20150926T230000Z
X-MICROSOFT-CDO-ALLDAYEVENT:FALSE
SUMMARY:Weekend Along The Farm Trails
DESCRIPTION:Sonoma County farms are abundant with fall\nharvest. Pack up the family and head out to the farm! Tour your way\nthrough Sonoma County and visit farms of your choice. Activities include farm\ntours\, demonstrations\, animal petting\, hay rides & corn mazes\, games and\ncrafts for kids\, tastings\, cooking demos\, flower arranging\, and more. Many\nstops will offer snacks\, lunches and epic picnic sites. Farm stands will be open\nfor fresh-from-the-source purchases.  Explore Sonoma County's vibrant agricultural community.Experience life on the farm behind the barnyard gates.Meet your farmers\, vintners & artisan producersLearn about the origins of your food.Enjoy tastes\, tours\, & demonstrations fresh from the source.Presented by Sonoma County Farm Trails (www.farmtrails.org)When – September 26 & 27\, 2015\, 10am to 4pmWhere – Various locations in Sonoma CountyCost – Free with reservations via Brown Paper TicketsWebsite – www.weekendalongfarmtrails.comEmail:  farmtrails farmtrails.orgCall:  (707) 837-8896
X-ALT-DESC;FMTTYPE=text/html:<!--  Visual Designer HTML --><p><span style="background-color: white">Sonoma County farms are abundant with fall\nharvest.&nbsp\;Pack up the family and head out to the farm! Tour your way\nthrough Sonoma County and visit farms of your choice. Activities include farm\ntours\, demonstrations\, animal petting\, hay rides &amp\; corn mazes\, games and\ncrafts for kids\, tastings\, cooking demos\, flower arranging\, and more. Many\nstops will offer snacks\, lunches and epic picnic sites. Farm stands will be open\nfor fresh-from-the-source purchases.&nbsp\;</span></p><ul style="list-style-type:disc"><li style="list-style-type: disc\;"> Explore Sonoma County's vibrant agricultural community.</li><li style="list-style-type: disc\;">Experience life on the farm behind the barnyard gates.</li><li style="list-style-type: disc\;">Meet your farmers\, vintners &amp\; artisan producers</li><li style="list-style-type: disc\;">Learn about the origins of your food.</li><li style="list-style-type: disc\;">Enjoy tastes\, tours\, &amp\; demonstrations fresh from the source.</li></ul><p>Presented by Sonoma County Farm Trails (www.farmtrails.org)</p><p>When – September 26 &amp\; 27\, 2015\, 10am to 4pm</p><p>Where – Various locations in Sonoma County</p><p>Cost – Free with reservations via Brown Paper Tickets</p><p>Website – www.weekendalongfarmtrails.com</p><p>Email:&nbsp\; farmtrails&#64\;farmtrails.org</p><p>Call:&nbsp\; (707) 837-8896</p>
LOCATION:Various Locations In Sonoma County
UID:e.3189.5042753
SEQUENCE:3
DTSTAMP:20260419T210329Z
URL:https://business.sebastopol.org/events/details/weekend-along-the-farm-trails-09-26-2015-5042753
END:VEVENT

END:VCALENDAR
