BEGIN:VCALENDAR
VERSION:2.0
PRODID:-//ChamberMaster//Event Calendar 2.0//EN
METHOD:PUBLISH
X-PUBLISHED-TTL:P3D
REFRESH-INTERVAL:P3D
CALSCALE:GREGORIAN
BEGIN:VEVENT
DTSTART:20150116T020000Z
DTEND:20150116T040000Z
X-MICROSOFT-CDO-ALLDAYEVENT:FALSE
SUMMARY:WETLANDS
DESCRIPTION:Opening Reception January 15 Wetlands\, Ever Changing Waters\, Land\, Life Galletta Gallery presented in collaboration with the Laguna de Santa Rosa Foundation Juried by Chester Arnold This exhibition portrays wetlands in all of their diversity and importance to humankind and to the plants and animals that depend upon them. Come and admire work portraying nature in it's magnificence or feel questioned by artists with a more activist agenda.   Gallery II    "Laguna de Santa Rosa - Through the Seasons"  photographs by  the  Tuesday Afternoon Photography Group and  Santa Rosa Photographic Society.   Gallery III A selection of  Native American basketry.  Professor Ben Benson \, Professor of North American Native Art at SSU and SRJC\, and Director Emeritus of the Jesse Peter Native American Museum\, display examples of antique traditional native baskets and  local history.
X-ALT-DESC;FMTTYPE=text/html:Opening Reception January 15 Wetlands\, Ever Changing Waters\, Land\, Life Galletta Gallery presented in collaboration with the Laguna de Santa Rosa Foundation Juried by Chester Arnold This exhibition portrays wetlands in all of their diversity and importance to humankind and to the plants and animals that depend upon them. Come and admire work portraying nature in it's magnificence or feel questioned by artists with a more activist agenda.   Gallery II    "Laguna de Santa Rosa - Through the Seasons"  photographs by  the  Tuesday Afternoon Photography Group and  Santa Rosa Photographic Society.   Gallery III A selection of  Native American basketry.  Professor Ben Benson \, Professor of North American Native Art at SSU and SRJC\, and Director Emeritus of the Jesse Peter Native American Museum\, display examples of antique traditional native baskets and  local history.
LOCATION:Sebastopol Center for the Arts 282 High Street Sebastopol\, CA 95472
UID:e.3189.31634
SEQUENCE:3
DTSTAMP:20260420T100752Z
URL:https://business.sebastopol.org/events/details/wetlands-01-15-2015-31634
END:VEVENT

END:VCALENDAR
