BEGIN:VCALENDAR
VERSION:2.0
PRODID:-//ChamberMaster//Event Calendar 2.0//EN
METHOD:PUBLISH
X-PUBLISHED-TTL:P3D
REFRESH-INTERVAL:P3D
CALSCALE:GREGORIAN
BEGIN:VEVENT
DTSTART:20150124T210000Z
DTEND:20150125T000000Z
X-MICROSOFT-CDO-ALLDAYEVENT:FALSE
SUMMARY:WETLANDS
DESCRIPTION:Weaving Demonstration\, free.  Clint McKay\, (Wappo/Dry Creek Pomo) and Lucy McKay (Sierra Miwok/Dry Creek Pomo) provide a traditional native basket weaving demonstration with native plants from the Laguna.  Clint McKay is the Chairman of the California Indian Basketweavers Assoc. Free and open to the public.
X-ALT-DESC;FMTTYPE=text/html:Weaving Demonstration\, free.  Clint McKay\, (Wappo/Dry Creek Pomo) and Lucy McKay (Sierra Miwok/Dry Creek Pomo) provide a traditional native basket weaving demonstration with native plants from the Laguna.  Clint McKay is the Chairman of the California Indian Basketweavers Assoc. Free and open to the public.
LOCATION:Sebastopol Center for the Arts 282 High Street Sebastopol\, CA 95472
UID:e.3189.31637
SEQUENCE:3
DTSTAMP:20260420T100753Z
URL:https://business.sebastopol.org/events/details/wetlands-01-24-2015-31637
END:VEVENT

END:VCALENDAR
