BEGIN:VCALENDAR
VERSION:2.0
PRODID:-//ChamberMaster//Event Calendar 2.0//EN
METHOD:PUBLISH
X-PUBLISHED-TTL:P3D
REFRESH-INTERVAL:P3D
CALSCALE:GREGORIAN
BEGIN:VEVENT
DTSTART:20150131T230000Z
DTEND:20150201T000000Z
X-MICROSOFT-CDO-ALLDAYEVENT:FALSE
SUMMARY:WETLANDS
DESCRIPTION:Professor Ben Benson\, Anthropology Coordinator at Pepperwood Preserve\, Professor of North American Native Art at SSU and SRJC\, and Director Emeritus of the Jesse Peter Native American Museum will present a lecture about Native Art of the Laguna de Santa Rosa
X-ALT-DESC;FMTTYPE=text/html:Professor Ben Benson\, Anthropology Coordinator at Pepperwood Preserve\, Professor of North American Native Art at SSU and SRJC\, and Director Emeritus of the Jesse Peter Native American Museum will present a lecture about Native Art of the Laguna de Santa Rosa
LOCATION:Sebastopol Center for the Arts 282 High Street Sebastopol\, CA 95472
UID:e.3189.31640
SEQUENCE:3
DTSTAMP:20260420T084307Z
URL:https://business.sebastopol.org/events/details/wetlands-01-31-2015-31640
END:VEVENT

END:VCALENDAR
