BEGIN:VCALENDAR
VERSION:2.0
PRODID:-//ChamberMaster//Event Calendar 2.0//EN
METHOD:PUBLISH
X-PUBLISHED-TTL:P3D
REFRESH-INTERVAL:P3D
CALSCALE:GREGORIAN
BEGIN:VEVENT
DTSTART:20130223T180000Z
DTEND:20130224T060000Z
X-MICROSOFT-CDO-ALLDAYEVENT:FALSE
SUMMARY:Whole House Remodels: How to Add Space without an Addition
DESCRIPTION:Whole House Remodels: How to Add Space without an Addition\n\nConsidering a remodel? Most of us live in a home originally designed with no regard for our own tastes and style preferences. The result: a home meeting some of our needs but we often have to adjust the way we live in order to enjoy the place in which we spend most of our time. \n\nToo dark? Poorly used or unused spaces? Awkward transitions? Blocked views? Not enough \nstorage? No space for hobbies? Tired\, outdated look?\n\nIf this sounds familiar to you and you find yourself learning to live with things about your home that really annoy you\, it’s time to consider a remodel. With a whole house remodel\, the interior can be creatively reconfigured such that you get a new home with more space perfectly tailored to your desires without adding on.\n\nYou really should love where you live. Join us Saturday\, February 23rd at 10 am for a free \nworkshop.  \n\nSpace is limited so advance registration is required. Register online at \nhttp://www.leffconstruction.com/events/whole-house-remodels-how-add-space-without-addition#\n\nor call us at (707) 823-4899.  We hope to see you there!
X-ALT-DESC;FMTTYPE=text/html:Whole House Remodels: How to Add Space without an Addition\n\nConsidering a remodel? Most of us live in a home originally designed with no regard for our own tastes and style preferences. The result: a home meeting some of our needs but we often have to adjust the way we live in order to enjoy the place in which we spend most of our time. \n\nToo dark? Poorly used or unused spaces? Awkward transitions? Blocked views? Not enough \nstorage? No space for hobbies? Tired\, outdated look?\n\nIf this sounds familiar to you and you find yourself learning to live with things about your home that really annoy you\, it’s time to consider a remodel. With a whole house remodel\, the interior can be creatively reconfigured such that you get a new home with more space perfectly tailored to your desires without adding on.\n\nYou really should love where you live. Join us Saturday\, February 23rd at 10 am for a free \nworkshop.  \n\nSpace is limited so advance registration is required. Register online at \nhttp://www.leffconstruction.com/events/whole-house-remodels-how-add-space-without-addition#\n\nor call us at (707) 823-4899.  We hope to see you there!
LOCATION:Leff Design Center\, 2661 Gravenstein Hwy S\, Suite B\, Sebastopol\, CA 95472 (next to the Antique Society) Please note\, this is not our office on Main Street!
UID:e.3189.5040373
SEQUENCE:3
DTSTAMP:20260422T010521Z
URL:https://business.sebastopol.org/events/details/whole-house-remodels-how-to-add-space-without-an-addition-02-23-2013-5040373
END:VEVENT

END:VCALENDAR
