BEGIN:VCALENDAR
VERSION:2.0
PRODID:-//ChamberMaster//Event Calendar 2.0//EN
METHOD:PUBLISH
X-PUBLISHED-TTL:P3D
REFRESH-INTERVAL:P3D
CALSCALE:GREGORIAN
BEGIN:VEVENT
DTSTART:20130407T200000Z
DTEND:20130407T230000Z
X-MICROSOFT-CDO-ALLDAYEVENT:FALSE
SUMMARY:Wildlife Fawn Rescue Meet & Greet
DESCRIPTION:We will be welcoming people to learn about Wildlife Fawn Rescue with displays\, volunteers and refreshments
X-ALT-DESC;FMTTYPE=text/html:We will be welcoming people to learn about Wildlife Fawn Rescue with displays\, volunteers and refreshments
LOCATION:Sebastopol Senior Center
UID:e.3189.5040561
SEQUENCE:3
DTSTAMP:20260421T221432Z
URL:https://business.sebastopol.org/events/details/wildlife-fawn-rescue-meet-greet-04-07-2013-5040561
END:VEVENT

END:VCALENDAR
