BEGIN:VCALENDAR
VERSION:2.0
PRODID:-//ChamberMaster//Event Calendar 2.0//EN
METHOD:PUBLISH
X-PUBLISHED-TTL:P3D
REFRESH-INTERVAL:P3D
CALSCALE:GREGORIAN
BEGIN:VEVENT
DTSTART:20150201T030000Z
DTEND:20150201T063000Z
X-MICROSOFT-CDO-ALLDAYEVENT:FALSE
SUMMARY:Will Kimbrough & Brigitte DeMeyer
DESCRIPTION:Hopmonk Tavern/Sebastopol and KRSH present Will Kimbrough and Brigitte DeMeyer for a stunning evening of genre-defying singer/songwriter excellence on January 31\, 2015 in the Abbey at Hopmonk in Sebastopol. Proceeds from the show will benefit Earle Baum Center of the Blind. Doors at 7pm\, music at 8pm (a seated show). $18 Advance/ $20 Day of Show. Tickets are available at hopmonk.com/sebastopol or at the Tavern. For more information\, please visit hopmonk.com/sebastopol.
X-ALT-DESC;FMTTYPE=text/html:Hopmonk Tavern/Sebastopol and KRSH present Will Kimbrough and Brigitte DeMeyer for a stunning evening of genre-defying singer/songwriter excellence on January 31\, 2015 in the Abbey at Hopmonk in Sebastopol. Proceeds from the show will benefit Earle Baum Center of the Blind. Doors at 7pm\, music at 8pm (a seated show). $18 Advance/ $20 Day of Show. Tickets are available at hopmonk.com/sebastopol or at the Tavern. For more information\, please visit hopmonk.com/sebastopol.
LOCATION:Hopmonk Tavern Sebastopol
UID:e.3189.5042022
SEQUENCE:3
DTSTAMP:20260420T084339Z
URL:https://business.sebastopol.org/events/details/will-kimbrough-brigitte-demeyer-01-31-2015-5042022
END:VEVENT

END:VCALENDAR
